
BEGIN:VCALENDAR
VERSION:2.0
PRODID:-//The Record Pub - ECPv6.15.18//NONSGML v1.0//EN
CALSCALE:GREGORIAN
METHOD:PUBLISH
X-WR-CALNAME:The Record Pub
X-ORIGINAL-URL:https://therecordpub.com
X-WR-CALDESC:Events for The Record Pub
REFRESH-INTERVAL;VALUE=DURATION:PT1H
X-Robots-Tag:noindex
X-PUBLISHED-TTL:PT1H
BEGIN:VTIMEZONE
TZID:UTC
BEGIN:STANDARD
TZOFFSETFROM:+0000
TZOFFSETTO:+0000
TZNAME:UTC
DTSTART:20220101T000000
END:STANDARD
END:VTIMEZONE
BEGIN:VEVENT
DTSTART;VALUE=DATE:20230716
DTEND;VALUE=DATE:20230717
DTSTAMP:20260419T171022
CREATED:20230626T144406Z
LAST-MODIFIED:20230626T144406Z
UID:4306-1689465600-1689551999@therecordpub.com
SUMMARY:$5 Mimosas
DESCRIPTION:Every weekend\, The Record Pub features $5 mimosas. You have your choice of orange juice\, cranberry juice\, or be adventurous and go with our patented deluxe mimosa\, with both orange and cranberry!
URL:https://therecordpub.com/event/5-mimosas-18/
ATTACH;FMTTYPE=image/jpeg:https://therecordpub.com/wp-content/uploads/2023/05/Mimosa.jpeg
END:VEVENT
BEGIN:VEVENT
DTSTART;VALUE=DATE:20230715
DTEND;VALUE=DATE:20230716
DTSTAMP:20260419T171022
CREATED:20230626T144321Z
LAST-MODIFIED:20230626T144321Z
UID:4304-1689379200-1689465599@therecordpub.com
SUMMARY:$5 Mimosas
DESCRIPTION:Every weekend\, The Record Pub features $5 mimosas. You have your choice of orange juice\, cranberry juice\, or be adventurous and go with our patented deluxe mimosa\, with both orange and cranberry!
URL:https://therecordpub.com/event/5-mimosas-17/
ATTACH;FMTTYPE=image/jpeg:https://therecordpub.com/wp-content/uploads/2023/05/Mimosa4.jpg
END:VEVENT
BEGIN:VEVENT
DTSTART;VALUE=DATE:20230714
DTEND;VALUE=DATE:20230715
DTSTAMP:20260419T171022
CREATED:20230626T143907Z
LAST-MODIFIED:20230713T025943Z
UID:4294-1689292800-1689379199@therecordpub.com
SUMMARY:New Release Fridays
DESCRIPTION:New releases come out Friday at The Record Pub\, starting at 11 a.m.!
URL:https://therecordpub.com/event/new-release-fridays-9/
ATTACH;FMTTYPE=image/jpeg:https://therecordpub.com/wp-content/uploads/2023/06/Colter-Wall-scaled.jpg
END:VEVENT
BEGIN:VEVENT
DTSTART;TZID=UTC:20230713T160000
DTEND;TZID=UTC:20230713T200000
DTSTAMP:20260419T171022
CREATED:20230511T175614Z
LAST-MODIFIED:20230713T030133Z
UID:4140-1689264000-1689278400@therecordpub.com
SUMMARY:Private Event
DESCRIPTION:TRP will be closing at 4 p.m. on Thursday\, July 13\, for a private event. For information on how to host to your next event at The Record Pub\, contact us at (503) 889-0917\, or at TRPstaff@therecordpub.com.
URL:https://therecordpub.com/event/private-event-3/
END:VEVENT
BEGIN:VEVENT
DTSTART;VALUE=DATE:20230713
DTEND;VALUE=DATE:20230714
DTSTAMP:20260419T171022
CREATED:20230626T143544Z
LAST-MODIFIED:20230626T143544Z
UID:4286-1689206400-1689292799@therecordpub.com
SUMMARY:Recent Arrival Thursdays
DESCRIPTION:We add stacks of used recent arrivals to the record bins every Thursday.   \nWe also introduce a new theme on the TRP Top 3 each Thursday\, so come on down and join in the conversation.
URL:https://therecordpub.com/event/recent-arrival-thursdays-8/
ATTACH;FMTTYPE=image/jpeg:https://therecordpub.com/wp-content/uploads/2023/05/recents.jpg
END:VEVENT
BEGIN:VEVENT
DTSTART;TZID=UTC:20230712T183000
DTEND;TZID=UTC:20230712T203000
DTSTAMP:20260419T171022
CREATED:20230626T143126Z
LAST-MODIFIED:20230626T143126Z
UID:4278-1689186600-1689193800@therecordpub.com
SUMMARY:TRP Music Bingo
DESCRIPTION:On Wednesdays\, The Record Pub hosts TRP Music Bingo Night with Last Call Trivia. TRP Music Bingo is fun\, super easy and free to play. Simply match the song that the host is playing to your bingo card\, and once you’ve formed a line\, it’s BINGO … with a TRP twist! \nBeginning at 6:30 p.m. each Wednesday\, TRP Music Bingo Night features two one-hour games that include prizes for single bingo\, double bingo\, blackout (or coverall) and Lingo\, a puzzle at the bottom of your card that corresponds with songs played over the course of each game.
URL:https://therecordpub.com/event/trp-music-bingo-7/
ATTACH;FMTTYPE=image/jpeg:https://therecordpub.com/wp-content/uploads/2023/01/Bingo-2.jpg
END:VEVENT
BEGIN:VEVENT
DTSTART;VALUE=DATE:20230709
DTEND;VALUE=DATE:20230710
DTSTAMP:20260419T171022
CREATED:20230626T144235Z
LAST-MODIFIED:20230626T144235Z
UID:4302-1688860800-1688947199@therecordpub.com
SUMMARY:$5 Mimosas
DESCRIPTION:Every weekend\, The Record Pub features $5 mimosas. You have your choice of orange juice\, cranberry juice\, or be adventurous and go with our patented deluxe mimosa\, with both orange and cranberry!
URL:https://therecordpub.com/event/5-mimosas-16/
ATTACH;FMTTYPE=image/jpeg:https://therecordpub.com/wp-content/uploads/2023/05/Mimosa2.jpeg
END:VEVENT
BEGIN:VEVENT
DTSTART;VALUE=DATE:20230708
DTEND;VALUE=DATE:20230709
DTSTAMP:20260419T171022
CREATED:20230626T144154Z
LAST-MODIFIED:20230626T144154Z
UID:4300-1688774400-1688860799@therecordpub.com
SUMMARY:$5 Mimosas
DESCRIPTION:Every weekend\, The Record Pub features $5 mimosas. You have your choice of orange juice\, cranberry juice\, or be adventurous and go with our patented deluxe mimosa\, with both orange and cranberry!
URL:https://therecordpub.com/event/5-mimosas-15/
ATTACH;FMTTYPE=image/jpeg:https://therecordpub.com/wp-content/uploads/2023/05/Mimosa.jpeg
END:VEVENT
BEGIN:VEVENT
DTSTART;VALUE=DATE:20230707
DTEND;VALUE=DATE:20230708
DTSTAMP:20260419T171022
CREATED:20230626T143839Z
LAST-MODIFIED:20230706T185029Z
UID:4292-1688688000-1688774399@therecordpub.com
SUMMARY:New Release Fridays
DESCRIPTION:New releases come out Friday at The Record Pub\, starting at 11 a.m.!
URL:https://therecordpub.com/event/new-release-fridays-8/
ATTACH;FMTTYPE=image/jpeg:https://therecordpub.com/wp-content/uploads/2023/06/Taylor-scaled.jpg
END:VEVENT
BEGIN:VEVENT
DTSTART;VALUE=DATE:20230706
DTEND;VALUE=DATE:20230707
DTSTAMP:20260419T171022
CREATED:20230626T143442Z
LAST-MODIFIED:20230626T143442Z
UID:4284-1688601600-1688687999@therecordpub.com
SUMMARY:Recent Arrival Thursdays
DESCRIPTION:We add stacks of used recent arrivals to the record bins every Thursday.   \nWe also introduce a new theme on the TRP Top 3 each Thursday\, so come on down and join in the conversation.
URL:https://therecordpub.com/event/recent-arrival-thursdays-7/
ATTACH;FMTTYPE=image/jpeg:https://therecordpub.com/wp-content/uploads/2023/05/Top3.jpg
END:VEVENT
BEGIN:VEVENT
DTSTART;TZID=UTC:20230705T183000
DTEND;TZID=UTC:20230705T203000
DTSTAMP:20260419T171022
CREATED:20230626T143020Z
LAST-MODIFIED:20230626T143020Z
UID:4276-1688581800-1688589000@therecordpub.com
SUMMARY:TRP Music Bingo
DESCRIPTION:On Wednesdays\, The Record Pub hosts TRP Music Bingo Night with Last Call Trivia. TRP Music Bingo is fun\, super easy and free to play. Simply match the song that the host is playing to your bingo card\, and once you’ve formed a line\, it’s BINGO … with a TRP twist! \nBeginning at 6:30 p.m. each Wednesday\, TRP Music Bingo Night features two one-hour games that include prizes for single bingo\, double bingo\, blackout (or coverall) and Lingo\, a puzzle at the bottom of your card that corresponds with songs played over the course of each game.
URL:https://therecordpub.com/event/trp-music-bingo-6/
ATTACH;FMTTYPE=image/jpeg:https://therecordpub.com/wp-content/uploads/2023/01/Bingo-2.jpg
END:VEVENT
BEGIN:VEVENT
DTSTART;TZID=UTC:20230704T100000
DTEND;TZID=UTC:20230704T150000
DTSTAMP:20260419T171022
CREATED:20230615T204521Z
LAST-MODIFIED:20230615T204820Z
UID:4253-1688464800-1688482800@therecordpub.com
SUMMARY:Fourth of July Weekend Outdoor Sales Event
DESCRIPTION:You won’t want to miss the deals to be had at The Record Pub the first weekend of July. TRP will be hosting a Fourth of July Weekend Sale\, July 1-2 and July 4. The event\, which will be held outside on the sidewalk of The Record Pub\, will feature hundreds of $1 records and 50 cent tapes\, in addition to select stereo gear\, CDs and other items. Additionally\, we will be featuring $5 mimosas all three days.  \nTRP will be open early each of the three days\, with details below: \nSaturday\, July 1 – Outdoor Fourth of July Weekend sales event from 10 a.m. to 3 p.m. (TRP open 10 a.m. to 10 p.m.)\nSunday\, July 2 –  Outdoor Fourth of July Weekend sales event from 10 a.m. to 3 p.m. (TRP open 10 a.m. to 9 p.m.)\nTuesday\, July 4 – Outdoor Fourth of July Weekend sales event from 10 a.m. to 3 p.m. (TRP open 10 a.m. to 9 p.m.) \n*The Record Pub also will be open special hours from 2 p.m. to 9 p.m. on Monday\, July 3\, but there will be no outdoor sale that day.
URL:https://therecordpub.com/event/fourth-of-july-weekend-sales-event-3/
ATTACH;FMTTYPE=image/jpeg:https://therecordpub.com/wp-content/uploads/2022/07/Home5.jpg
END:VEVENT
BEGIN:VEVENT
DTSTART;TZID=UTC:20230703T140000
DTEND;TZID=UTC:20230703T210000
DTSTAMP:20260419T171022
CREATED:20230626T144918Z
LAST-MODIFIED:20230626T144918Z
UID:4316-1688392800-1688418000@therecordpub.com
SUMMARY:Bonus Monday
DESCRIPTION:We’ll be open from 2-9 p.m. on Monday\, July 3.
URL:https://therecordpub.com/event/bonus-monday/
END:VEVENT
BEGIN:VEVENT
DTSTART;TZID=UTC:20230702T100000
DTEND;TZID=UTC:20230702T140000
DTSTAMP:20260419T171022
CREATED:20230615T204407Z
LAST-MODIFIED:20230615T204701Z
UID:4251-1688292000-1688306400@therecordpub.com
SUMMARY:Fourth of July Weekend Outdoor Sales Event
DESCRIPTION:You won’t want to miss the deals to be had at The Record Pub the first weekend of July. TRP will be hosting a Fourth of July Weekend Sale\, July 1-2 and July 4. The event\, which will be held outside on the sidewalk of The Record Pub\, will feature hundreds of $1 records and 50 cent tapes\, in addition to select stereo gear\, CDs and other items. Additionally\, we will be featuring $5 mimosas all three days.  \nTRP will be open early each of the three days\, with details below: \nSaturday\, July 1 – Outdoor Fourth of July Weekend sales event from 10 a.m. to 3 p.m. (TRP open 10 a.m. to 10 p.m.)\nSunday\, July 2 –  Outdoor Fourth of July Weekend sales event from 10 a.m. to 3 p.m. (TRP open 10 a.m. to 9 p.m.)\nTuesday\, July 4 – Outdoor Fourth of July Weekend sales event from 10 a.m. to 3 p.m. (TRP open 10 a.m. to 9 p.m.) \n*The Record Pub also will be open special hours from 2 p.m. to 9 p.m. on Monday\, July 3\, but there will be no outdoor sale that day.
URL:https://therecordpub.com/event/fourth-of-july-weekend-sales-event-2/
ATTACH;FMTTYPE=image/jpeg:https://therecordpub.com/wp-content/uploads/2022/07/Home5.jpg
END:VEVENT
BEGIN:VEVENT
DTSTART;TZID=UTC:20230701T100000
DTEND;TZID=UTC:20230701T150000
DTSTAMP:20260419T171022
CREATED:20230615T204309Z
LAST-MODIFIED:20230615T204747Z
UID:4249-1688205600-1688223600@therecordpub.com
SUMMARY:Fourth of July Weekend Outdoor Sales Event
DESCRIPTION:You won’t want to miss the deals to be had at The Record Pub the first weekend of July. TRP will be hosting a Fourth of July Weekend Sale\, July 1-2 and July 4. The event\, which will be held outside on the sidewalk of The Record Pub\, will feature hundreds of $1 records and 50 cent tapes\, in addition to select stereo gear\, CDs and other items. Additionally\, we will be featuring $5 mimosas all three days.  \nTRP will be open early each of the three days\, with details below: \nSaturday\, July 1 – Outdoor Fourth of July Weekend sales event from 10 a.m. to 3 p.m. (TRP open 10 a.m. to 10 p.m.)\nSunday\, July 2 –  Outdoor Fourth of July Weekend sales event from 10 a.m. to 3 p.m. (TRP open 10 a.m. to 9 p.m.)\nTuesday\, July 4 – Outdoor Fourth of July Weekend sales event from 10 a.m. to 3 p.m. (TRP open 10 a.m. to 9 p.m.) \n*The Record Pub also will be open special hours from 2 p.m. to 9 p.m. on Monday\, July 3\, but there will be no outdoor sale that day.
URL:https://therecordpub.com/event/fourth-of-july-weekend-sales-event/
ATTACH;FMTTYPE=image/jpeg:https://therecordpub.com/wp-content/uploads/2022/07/Home5.jpg
END:VEVENT
BEGIN:VEVENT
DTSTART;VALUE=DATE:20230630
DTEND;VALUE=DATE:20230701
DTSTAMP:20260419T171022
CREATED:20230521T185737Z
LAST-MODIFIED:20230626T142715Z
UID:4210-1688083200-1688169599@therecordpub.com
SUMMARY:New Release Fridays
DESCRIPTION:New releases come out Friday at The Record Pub\, starting at 11 a.m.!
URL:https://therecordpub.com/event/new-release-fridays-7/
ATTACH;FMTTYPE=image/jpeg:https://therecordpub.com/wp-content/uploads/2023/05/Hollywood.jpg
END:VEVENT
BEGIN:VEVENT
DTSTART;VALUE=DATE:20230629
DTEND;VALUE=DATE:20230630
DTSTAMP:20260419T171022
CREATED:20230521T184732Z
LAST-MODIFIED:20230626T142603Z
UID:4198-1687996800-1688083199@therecordpub.com
SUMMARY:Recent Arrival Thursdays
DESCRIPTION:We add stacks of used recent arrivals to the record bins every Thursday.   \nWe also introduce a new theme on the TRP Top 3 each Thursday\, so come on down and join in the conversation.
URL:https://therecordpub.com/event/recent-arrival-thursdays-6/
ATTACH;FMTTYPE=image/jpeg:https://therecordpub.com/wp-content/uploads/2023/05/recents.jpg
END:VEVENT
BEGIN:VEVENT
DTSTART;VALUE=DATE:20230625
DTEND;VALUE=DATE:20230626
DTSTAMP:20260419T171022
CREATED:20230521T185133Z
LAST-MODIFIED:20230521T185133Z
UID:4202-1687651200-1687737599@therecordpub.com
SUMMARY:$5 Mimosas
DESCRIPTION:Every weekend\, The Record Pub features $5 mimosas. You have your choice of orange juice\, cranberry juice\, or be adventurous and go with our patented deluxe mimosa\, with both orange and cranberry!
URL:https://therecordpub.com/event/5-mimosas-14/
ATTACH;FMTTYPE=image/jpeg:https://therecordpub.com/wp-content/uploads/2023/05/Mimosa.jpeg
END:VEVENT
BEGIN:VEVENT
DTSTART;VALUE=DATE:20230624
DTEND;VALUE=DATE:20230625
DTSTAMP:20260419T171022
CREATED:20230521T185049Z
LAST-MODIFIED:20230521T185049Z
UID:4200-1687564800-1687651199@therecordpub.com
SUMMARY:$5 Mimosas
DESCRIPTION:Every weekend\, The Record Pub features $5 mimosas. You have your choice of orange juice\, cranberry juice\, or be adventurous and go with our patented deluxe mimosa\, with both orange and cranberry!
URL:https://therecordpub.com/event/5-mimosas-13/
ATTACH;FMTTYPE=image/jpeg:https://therecordpub.com/wp-content/uploads/2023/05/Mimosa4.jpg
END:VEVENT
BEGIN:VEVENT
DTSTART;VALUE=DATE:20230623
DTEND;VALUE=DATE:20230624
DTSTAMP:20260419T171022
CREATED:20230521T185705Z
LAST-MODIFIED:20230521T185705Z
UID:4208-1687478400-1687564799@therecordpub.com
SUMMARY:New Release Fridays
DESCRIPTION:New releases come out Friday at The Record Pub\, starting at 11 a.m.!
URL:https://therecordpub.com/event/new-release-fridays-6/
END:VEVENT
BEGIN:VEVENT
DTSTART;VALUE=DATE:20230622
DTEND;VALUE=DATE:20230623
DTSTAMP:20260419T171022
CREATED:20230521T184705Z
LAST-MODIFIED:20230615T204007Z
UID:4196-1687392000-1687478399@therecordpub.com
SUMMARY:Recent Arrival Thursdays
DESCRIPTION:We add stacks of used recent arrivals to the record bins every Thursday.   \nWe also introduce a new theme on the TRP Top 3 each Thursday\, so come on down and join in the conversation.
URL:https://therecordpub.com/event/recent-arrival-thursdays-5/
ATTACH;FMTTYPE=image/jpeg:https://therecordpub.com/wp-content/uploads/2023/05/Top3.jpg
END:VEVENT
BEGIN:VEVENT
DTSTART;VALUE=DATE:20230618
DTEND;VALUE=DATE:20230619
DTSTAMP:20260419T171022
CREATED:20230521T183523Z
LAST-MODIFIED:20230521T183523Z
UID:4190-1687046400-1687132799@therecordpub.com
SUMMARY:$5 Mimosas
DESCRIPTION:Every weekend\, The Record Pub features $5 mimosas. You have your choice of orange juice\, cranberry juice\, or be adventurous and go with our patented deluxe mimosa\, with both orange and cranberry!
URL:https://therecordpub.com/event/5-mimosas-12/
ATTACH;FMTTYPE=image/jpeg:https://therecordpub.com/wp-content/uploads/2023/05/Mimosa3-rotated.jpeg
END:VEVENT
BEGIN:VEVENT
DTSTART;VALUE=DATE:20230617
DTEND;VALUE=DATE:20230618
DTSTAMP:20260419T171022
CREATED:20230521T183432Z
LAST-MODIFIED:20230521T183432Z
UID:4188-1686960000-1687046399@therecordpub.com
SUMMARY:$5 Mimosas
DESCRIPTION:Every weekend\, The Record Pub features $5 mimosas. You have your choice of orange juice\, cranberry juice\, or be adventurous and go with our patented deluxe mimosa\, with both orange and cranberry!
URL:https://therecordpub.com/event/5-mimosas-11/
ATTACH;FMTTYPE=image/jpeg:https://therecordpub.com/wp-content/uploads/2023/05/Mimosa4.jpg
END:VEVENT
BEGIN:VEVENT
DTSTART;VALUE=DATE:20230616
DTEND;VALUE=DATE:20230617
DTSTAMP:20260419T171022
CREATED:20230521T185635Z
LAST-MODIFIED:20230615T203854Z
UID:4206-1686873600-1686959999@therecordpub.com
SUMMARY:New Release Fridays
DESCRIPTION:New releases come out Friday at The Record Pub\, starting at 11 a.m.!
URL:https://therecordpub.com/event/new-release-fridays-5/
ATTACH;FMTTYPE=image/webp:https://therecordpub.com/wp-content/uploads/2023/05/Mac-DeMarco.webp
END:VEVENT
BEGIN:VEVENT
DTSTART;VALUE=DATE:20230615
DTEND;VALUE=DATE:20230616
DTSTAMP:20260419T171022
CREATED:20230521T184634Z
LAST-MODIFIED:20230615T203800Z
UID:4194-1686787200-1686873599@therecordpub.com
SUMMARY:Recent Arrival Thursdays
DESCRIPTION:We add stacks of used recent arrivals to the record bins every Thursday.   \nWe also introduce a new theme on the TRP Top 3 each Thursday\, so come on down and join in the conversation.
URL:https://therecordpub.com/event/recent-arrival-thursdays-4/
ATTACH;FMTTYPE=image/jpeg:https://therecordpub.com/wp-content/uploads/2023/05/recents.jpg
END:VEVENT
BEGIN:VEVENT
DTSTART;TZID=UTC:20230614T183000
DTEND;TZID=UTC:20230614T203000
DTSTAMP:20260419T171022
CREATED:20230521T183110Z
LAST-MODIFIED:20230521T183110Z
UID:4182-1686767400-1686774600@therecordpub.com
SUMMARY:TRP Music Bingo
DESCRIPTION:On Wednesdays\, The Record Pub hosts TRP Music Bingo Night with Last Call Trivia. TRP Music Bingo is fun\, super easy and free to play. Simply match the song that the host is playing to your bingo card\, and once you’ve formed a line\, it’s BINGO … with a TRP twist! \nBeginning at 6:30 p.m. each Wednesday\, TRP Music Bingo Night features two one-hour games that include prizes for single bingo\, double bingo\, blackout (or coverall) and Lingo\, a puzzle at the bottom of your card that corresponds with songs played over the course of each game.
URL:https://therecordpub.com/event/trp-music-bingo-5/
ATTACH;FMTTYPE=image/jpeg:https://therecordpub.com/wp-content/uploads/2023/01/Bingo-2.jpg
END:VEVENT
BEGIN:VEVENT
DTSTART;VALUE=DATE:20230611
DTEND;VALUE=DATE:20230612
DTSTAMP:20260419T171022
CREATED:20230521T183344Z
LAST-MODIFIED:20230521T183344Z
UID:4186-1686441600-1686527999@therecordpub.com
SUMMARY:$5 Mimosas
DESCRIPTION:Every weekend\, The Record Pub features $5 mimosas. You have your choice of orange juice\, cranberry juice\, or be adventurous and go with our patented deluxe mimosa\, with both orange and cranberry!
URL:https://therecordpub.com/event/5-mimosas-10/
ATTACH;FMTTYPE=image/jpeg:https://therecordpub.com/wp-content/uploads/2023/05/Mimosa.jpeg
END:VEVENT
BEGIN:VEVENT
DTSTART;VALUE=DATE:20230610
DTEND;VALUE=DATE:20230611
DTSTAMP:20260419T171022
CREATED:20230521T183253Z
LAST-MODIFIED:20230521T183253Z
UID:4184-1686355200-1686441599@therecordpub.com
SUMMARY:$5 Mimosas
DESCRIPTION:Every weekend\, The Record Pub features $5 mimosas. You have your choice of orange juice\, cranberry juice\, or be adventurous and go with our patented deluxe mimosa\, with both orange and cranberry!
URL:https://therecordpub.com/event/5-mimosas-9/
ATTACH;FMTTYPE=image/jpeg:https://therecordpub.com/wp-content/uploads/2023/05/Mimosa2.jpeg
END:VEVENT
BEGIN:VEVENT
DTSTART;VALUE=DATE:20230609
DTEND;VALUE=DATE:20230610
DTSTAMP:20260419T171022
CREATED:20230521T185604Z
LAST-MODIFIED:20230607T180911Z
UID:4204-1686268800-1686355199@therecordpub.com
SUMMARY:New Release Fridays
DESCRIPTION:New releases or reissues from Tears for Fears\, RATT\, Dead Milkmen\, Jason Isbell\, Bob Marley\, D.R.I\,\, Jenny Lewis\, Extreme and My Morning Jacket are among the titles available at The Record Pub Friday\, June 9.
URL:https://therecordpub.com/event/new-release-fridays-4/
ATTACH;FMTTYPE=image/jpeg:https://therecordpub.com/wp-content/uploads/2023/05/Ratt.jpg
END:VEVENT
BEGIN:VEVENT
DTSTART;VALUE=DATE:20230608
DTEND;VALUE=DATE:20230609
DTSTAMP:20260419T171022
CREATED:20230521T184552Z
LAST-MODIFIED:20230607T181029Z
UID:4192-1686182400-1686268799@therecordpub.com
SUMMARY:Recent Arrival Thursdays
DESCRIPTION:We add stacks of used recent arrivals to the record bins every Thursday.   \nWe also introduce a new theme on the TRP Top 3 each Thursday\, so come on down and join in the conversation.
URL:https://therecordpub.com/event/recent-arrival-thursdays-3/
ATTACH;FMTTYPE=image/jpeg:https://therecordpub.com/wp-content/uploads/2023/05/recents.jpg
END:VEVENT
END:VCALENDAR