
BEGIN:VCALENDAR
VERSION:2.0
PRODID:-//The Record Pub - ECPv6.15.18//NONSGML v1.0//EN
CALSCALE:GREGORIAN
METHOD:PUBLISH
X-ORIGINAL-URL:https://therecordpub.com
X-WR-CALDESC:Events for The Record Pub
REFRESH-INTERVAL;VALUE=DURATION:PT1H
X-Robots-Tag:noindex
X-PUBLISHED-TTL:PT1H
BEGIN:VTIMEZONE
TZID:UTC
BEGIN:STANDARD
TZOFFSETFROM:+0000
TZOFFSETTO:+0000
TZNAME:UTC
DTSTART:20220101T000000
END:STANDARD
END:VTIMEZONE
BEGIN:VEVENT
DTSTART;TZID=UTC:20231214T170000
DTEND;TZID=UTC:20231214T203000
DTSTAMP:20260423T094342
CREATED:20231206T025945Z
LAST-MODIFIED:20231206T025945Z
UID:63335-1702573200-1702585800@therecordpub.com
SUMMARY:Cliffmas!
DESCRIPTION:Dec. 14 is the birthday of Cliff Williams\, bass player for the iconic hard rock band AC/DC. We have been celebrating Cliffmas in his honor for years\, and we invite everyone to join us! We’ll be cranking AC/DC tunes all night in his honor! Merry Cliffmas\, everyone!
URL:https://therecordpub.com/event/cliffmas/
ATTACH;FMTTYPE=image/jpeg:https://therecordpub.com/wp-content/uploads/2023/12/Cliffmas.jpg
END:VEVENT
BEGIN:VEVENT
DTSTART;TZID=UTC:20231215T184500
DTEND;TZID=UTC:20231215T220000
DTSTAMP:20260423T094342
CREATED:20231102T191537Z
LAST-MODIFIED:20231102T191537Z
UID:63229-1702665900-1702677600@therecordpub.com
SUMMARY:Private Event
DESCRIPTION:TRP will be closing at 6:45 p.m. on Friday\, Dec. 15\, for a private event. For information on how to host to your next event at The Record Pub\, contact us at (503) 889-0917\, or at TRPstaff@therecordpub.com.
URL:https://therecordpub.com/event/private-event-5/
END:VEVENT
BEGIN:VEVENT
DTSTART;TZID=UTC:20231220T170000
DTEND;TZID=UTC:20231220T203000
DTSTAMP:20260423T094342
CREATED:20231204T200059Z
LAST-MODIFIED:20231206T030433Z
UID:63328-1703091600-1703104200@therecordpub.com
SUMMARY:TRP Wednesday Happy Hour: Holiday Hits
DESCRIPTION:Join us for our TRP Wednesday Happy Hour for $5 pints of premium drafts from 5 p.m. to close.  \nFor this week’s music\, we’ll be playing the best in holiday hits!
URL:https://therecordpub.com/event/trp-wednesday-happy-hour-holiday-hits/
ATTACH;FMTTYPE=image/png:https://therecordpub.com/wp-content/uploads/2023/12/HAPPY-HOUR-1220.png
END:VEVENT
BEGIN:VEVENT
DTSTART;TZID=UTC:20231223T070000
DTEND;TZID=UTC:20231223T210000
DTSTAMP:20260423T094342
CREATED:20231107T200721Z
LAST-MODIFIED:20231107T200721Z
UID:63252-1703314800-1703365200@therecordpub.com
SUMMARY:Live Music: Radar Bang Holiday Show
DESCRIPTION:We are pleased to welcome back Radar Bang to The Record Pub for a special holiday show on Saturday\, Dec. 23\, at 7 p.m. No cover\, so come join in the spirit with some holiday synthwave classics.
URL:https://therecordpub.com/event/live-music-radar-bang-holiday-show/
ATTACH;FMTTYPE=image/jpeg:https://therecordpub.com/wp-content/uploads/2023/11/Radar-Bang-II.jpg
END:VEVENT
BEGIN:VEVENT
DTSTART;TZID=UTC:20231227T170000
DTEND;TZID=UTC:20231227T203000
DTSTAMP:20260423T094342
CREATED:20231204T200152Z
LAST-MODIFIED:20231206T030539Z
UID:63330-1703696400-1703709000@therecordpub.com
SUMMARY:TRP Wednesday Happy Hour: Punk
DESCRIPTION:Join us for our TRP Wednesday Happy Hour for $5 pints of premium drafts from 5 p.m. to close.  \nFor this week’s music\, we’ll be playing the best in punk!
URL:https://therecordpub.com/event/trp-wednesday-happy-hour-punk/
ATTACH;FMTTYPE=image/png:https://therecordpub.com/wp-content/uploads/2023/12/Punk-1227.png
END:VEVENT
BEGIN:VEVENT
DTSTART;TZID=UTC:20240103T170000
DTEND;TZID=UTC:20240103T203000
DTSTAMP:20260423T094342
CREATED:20240101T190248Z
LAST-MODIFIED:20240101T190302Z
UID:63386-1704301200-1704313800@therecordpub.com
SUMMARY:TRP Wednesday Happy Hour: Hair Metal
DESCRIPTION:Join us for our TRP Wednesday Happy Hour for $5 pints of premium drafts from 5 p.m. to close.  \nFor this week’s music\, we’ll be playing the best in hair metal.
URL:https://therecordpub.com/event/trp-wednesday-happy-hour-hair-metal/
ATTACH;FMTTYPE=image/png:https://therecordpub.com/wp-content/uploads/2024/01/Hair-Metal-13.png
END:VEVENT
BEGIN:VEVENT
DTSTART;TZID=UTC:20240106T174500
DTEND;TZID=UTC:20240106T220000
DTSTAMP:20260423T094342
CREATED:20240101T194239Z
LAST-MODIFIED:20240101T194239Z
UID:63399-1704563100-1704578400@therecordpub.com
SUMMARY:Private Event
DESCRIPTION:TRP will be closing at 5:45 p.m. on Saturday\, Jan. 6\, for a private event. For information on how to host to your next event at The Record Pub\, contact us at (503) 889-0917\, or at TRPstaff@therecordpub.com.
URL:https://therecordpub.com/event/private-event-8/
END:VEVENT
BEGIN:VEVENT
DTSTART;TZID=UTC:20240107T164500
DTEND;TZID=UTC:20240107T220000
DTSTAMP:20260423T094342
CREATED:20240101T194410Z
LAST-MODIFIED:20240101T194433Z
UID:63401-1704645900-1704664800@therecordpub.com
SUMMARY:Private Event
DESCRIPTION:TRP will be closing at 4:45 p.m. on Sunday\, Jan. 7\, for a private event. For information on how to host to your next event at The Record Pub\, contact us at (503) 889-0917\, or at TRPstaff@therecordpub.com.
URL:https://therecordpub.com/event/private-event-9/
END:VEVENT
BEGIN:VEVENT
DTSTART;TZID=UTC:20240110T170000
DTEND;TZID=UTC:20240110T203000
DTSTAMP:20260423T094342
CREATED:20240101T190429Z
LAST-MODIFIED:20240101T190429Z
UID:63388-1704906000-1704918600@therecordpub.com
SUMMARY:TRP Wednesday Happy Hour: Indie Mix
DESCRIPTION:Join us for our TRP Wednesday Happy Hour for $5 pints of premium drafts from 5 p.m. to close.  \nFor this week’s music\, we’ll be playing the best in indie rock.
URL:https://therecordpub.com/event/trp-wednesday-happy-hour-indie-mix/
ATTACH;FMTTYPE=image/png:https://therecordpub.com/wp-content/uploads/2024/01/Indie-110.png
END:VEVENT
BEGIN:VEVENT
DTSTART;TZID=UTC:20240117T170000
DTEND;TZID=UTC:20240117T203000
DTSTAMP:20260423T094342
CREATED:20240101T190617Z
LAST-MODIFIED:20240101T190617Z
UID:63390-1705510800-1705523400@therecordpub.com
SUMMARY:TRP Wednesday Happy Hour: 1977
DESCRIPTION:Join us for our TRP Wednesday Happy Hour for $5 pints of premium drafts from 5 p.m. to close.  \nFor this week’s music\, we’ll be playing the best tunes from an incredible year in music – 1977!
URL:https://therecordpub.com/event/trp-wednesday-happy-hour-1977/
ATTACH;FMTTYPE=image/png:https://therecordpub.com/wp-content/uploads/2024/01/1977-117.png
END:VEVENT
BEGIN:VEVENT
DTSTART;TZID=UTC:20240119T170000
DTEND;TZID=UTC:20240119T190000
DTSTAMP:20260423T094342
CREATED:20240116T195634Z
LAST-MODIFIED:20240116T195634Z
UID:63421-1705683600-1705690800@therecordpub.com
SUMMARY:Listening Party: Green Day 'Saviors'
DESCRIPTION:Join us for our Green Day “Saviors” listening party at The Record Pub on Friday\, Jan. 19. We’ll be cranking the band’s newest release\, which comes out that day\, and you can take advantage of $5 select pints. The action starts at 5 p.m.\, and we’ll have some great prize drawings – including your chance to win a copy of the new Green Day LP!
URL:https://therecordpub.com/event/listening-party-green-day-saviors/
ATTACH;FMTTYPE=image/png:https://therecordpub.com/wp-content/uploads/2024/01/Saviors.png
END:VEVENT
BEGIN:VEVENT
DTSTART;TZID=UTC:20240120T180000
DTEND;TZID=UTC:20240120T203000
DTSTAMP:20260423T094342
CREATED:20240104T195323Z
LAST-MODIFIED:20240104T195323Z
UID:63406-1705773600-1705782600@therecordpub.com
SUMMARY:Live Music: The Walkaways
DESCRIPTION:We are pleased to welcome The Walkaways to The Record Pub on Saturday\, Jan. 20. Show starts at 6 p.m.\, no cover.  \nThe Walkaways specialize in cover songs that Phish covers!
URL:https://therecordpub.com/event/live-music-the-walkaways/
ATTACH;FMTTYPE=image/png:https://therecordpub.com/wp-content/uploads/2024/01/Walkaways.png
END:VEVENT
BEGIN:VEVENT
DTSTART;TZID=UTC:20240124T170000
DTEND;TZID=UTC:20240124T203000
DTSTAMP:20260423T094342
CREATED:20240101T190841Z
LAST-MODIFIED:20240101T190841Z
UID:63393-1706115600-1706128200@therecordpub.com
SUMMARY:TRP Wednesday Happy Hour: Grunge
DESCRIPTION:Join us for our TRP Wednesday Happy Hour for $5 pints of premium drafts from 5 p.m. to close.  \nFor this week’s music\, we’ll be playing the best in grunge\, although we are not crazy about that term!
URL:https://therecordpub.com/event/trp-wednesday-happy-hour-grunge/
ATTACH;FMTTYPE=image/png:https://therecordpub.com/wp-content/uploads/2024/01/Grunge-124.png
END:VEVENT
BEGIN:VEVENT
DTSTART;TZID=UTC:20240131T170000
DTEND;TZID=UTC:20240131T203000
DTSTAMP:20260423T094342
CREATED:20240101T191053Z
LAST-MODIFIED:20240101T191053Z
UID:63396-1706720400-1706733000@therecordpub.com
SUMMARY:TRP Wednesday Happy Hour: Blues Mix
DESCRIPTION:Join us for our TRP Wednesday Happy Hour for $5 pints of premium drafts from 5 p.m. to close.  \nFor this week’s music\, we’ll be playing some great blues classics.
URL:https://therecordpub.com/event/trp-wednesday-happy-hour-blues-mix/
ATTACH;FMTTYPE=image/png:https://therecordpub.com/wp-content/uploads/2024/01/Blues-131.png
END:VEVENT
BEGIN:VEVENT
DTSTART;TZID=UTC:20240203T174500
DTEND;TZID=UTC:20240203T220000
DTSTAMP:20260423T094342
CREATED:20240129T165008Z
LAST-MODIFIED:20240129T165008Z
UID:63442-1706982300-1706997600@therecordpub.com
SUMMARY:Private Event
DESCRIPTION:TRP will be closing at 5:45 p.m. on Saturday\, Feb. 3\, for a private event. For information on how to host to your next event at The Record Pub\, contact us at (503) 889-0917\, or at TRPstaff@therecordpub.com.
URL:https://therecordpub.com/event/private-event-10/
END:VEVENT
BEGIN:VEVENT
DTSTART;TZID=UTC:20240207T190000
DTEND;TZID=UTC:20240207T210000
DTSTAMP:20260423T094342
CREATED:20240127T194526Z
LAST-MODIFIED:20240127T194526Z
UID:63434-1707332400-1707339600@therecordpub.com
SUMMARY:Community Trivia Night: General Knowledge
DESCRIPTION:Join us as we team up with Last Call Trivia for our new Community Trivia Night on Wednesday evenings at The Record Pub\, beginning Wednesday\, Feb. 7. The game starts at 7 p.m.\, and you’ll want to arrive early to reserve a good space to play.   \nOur Community Trivia Nights are free to play\, and each month we’ll be donating a portion of the trivia proceeds to an area non-profit. This month\, we are partnering with the Sellwood Community House.
URL:https://therecordpub.com/event/community-trivia-night-general-knowledge/
ATTACH;FMTTYPE=image/png:https://therecordpub.com/wp-content/uploads/2024/01/TRP-Trivia-SCH.png
END:VEVENT
BEGIN:VEVENT
DTSTART;TZID=UTC:20240208T170000
DTEND;TZID=UTC:20240208T203000
DTSTAMP:20260423T094342
CREATED:20240129T165356Z
LAST-MODIFIED:20240129T165356Z
UID:63444-1707411600-1707424200@therecordpub.com
SUMMARY:TRP Thursday Happy Hour: Krautrock
DESCRIPTION:Join us for our TRP Thursday Happy Hour for $5 pints of premium drafts from 5 p.m. to close.  \nFor this week’s music\, we’ll be playing the best in krautrock!
URL:https://therecordpub.com/event/trp-thursday-happy-hour-krautrock/
ATTACH;FMTTYPE=image/png:https://therecordpub.com/wp-content/uploads/2024/01/Krautrock-HH.png
END:VEVENT
BEGIN:VEVENT
DTSTART;TZID=UTC:20240214T190000
DTEND;TZID=UTC:20240214T210000
DTSTAMP:20260423T094342
CREATED:20240127T194650Z
LAST-MODIFIED:20240127T194650Z
UID:63436-1707937200-1707944400@therecordpub.com
SUMMARY:Community Trivia Night: General Knowledge
DESCRIPTION:Join us as we team up with Last Call Trivia for our new Community Trivia Night on Wednesday evenings at The Record Pub. The game starts at 7 p.m.\, and you’ll want to arrive early to reserve a good space to play.   \nOur Community Trivia Nights are free to play\, and each month we’ll be donating a portion of the trivia proceeds to an area non-profit. This month\, we are partnering with the Sellwood Community House.
URL:https://therecordpub.com/event/community-trivia-night-general-knowledge-2/
ATTACH;FMTTYPE=image/png:https://therecordpub.com/wp-content/uploads/2024/01/TRP-Trivia-SCH.png
END:VEVENT
BEGIN:VEVENT
DTSTART;TZID=UTC:20240215T170000
DTEND;TZID=UTC:20240215T203000
DTSTAMP:20260423T094342
CREATED:20240129T165619Z
LAST-MODIFIED:20240129T165619Z
UID:63447-1708016400-1708029000@therecordpub.com
SUMMARY:TRP Thursday Happy Hour: 90s Hip Hop
DESCRIPTION:Join us for our TRP Thursday Happy Hour for $5 pints of premium drafts from 5 p.m. to close.  \nFor this week’s music\, we’ll be playing the best in 90s hip hop!
URL:https://therecordpub.com/event/trp-thursday-happy-hour-90s-hip-hop/
ATTACH;FMTTYPE=image/png:https://therecordpub.com/wp-content/uploads/2024/01/90s-Hip-Hop-HH.png
END:VEVENT
BEGIN:VEVENT
DTSTART;TZID=UTC:20240219T110000
DTEND;TZID=UTC:20240219T210000
DTSTAMP:20260423T094342
CREATED:20240213T225547Z
LAST-MODIFIED:20240213T225547Z
UID:63485-1708340400-1708376400@therecordpub.com
SUMMARY:Holiday Hours: Monday\, Feb. 19
DESCRIPTION:We will be open 11 a.m. to 9 p.m. Monday\, Feb. 19\, for Presidents Day.
URL:https://therecordpub.com/event/holiday-hours-monday-feb-19/
END:VEVENT
BEGIN:VEVENT
DTSTART;TZID=UTC:20240221T190000
DTEND;TZID=UTC:20240221T210000
DTSTAMP:20260423T094342
CREATED:20240127T194820Z
LAST-MODIFIED:20240127T194820Z
UID:63438-1708542000-1708549200@therecordpub.com
SUMMARY:Community Trivia Night: General Knowledge
DESCRIPTION:Join us as we team up with Last Call Trivia for our new Community Trivia Night on Wednesday evenings at The Record Pub. The game starts at 7 p.m.\, and you’ll want to arrive early to reserve a good space to play.   \nOur Community Trivia Nights are free to play\, and each month we’ll be donating a portion of the trivia proceeds to an area non-profit. This month\, we are partnering with the Sellwood Community House.
URL:https://therecordpub.com/event/community-trivia-night-general-knowledge-3/
ATTACH;FMTTYPE=image/png:https://therecordpub.com/wp-content/uploads/2024/01/TRP-Trivia-SCH.png
END:VEVENT
BEGIN:VEVENT
DTSTART;TZID=UTC:20240222T170000
DTEND;TZID=UTC:20240222T203000
DTSTAMP:20260423T094342
CREATED:20240129T165834Z
LAST-MODIFIED:20240129T165913Z
UID:63450-1708621200-1708633800@therecordpub.com
SUMMARY:TRP Thursday Happy Hour: Electronic
DESCRIPTION:Join us for our TRP Thursday Happy Hour for $5 pints of premium drafts from 5 p.m. to close.  \nFor this week’s music\, we’ll be playing the best in electronic!
URL:https://therecordpub.com/event/trp-thursday-happy-hour-90s-hip-hop-2/
ATTACH;FMTTYPE=image/png:https://therecordpub.com/wp-content/uploads/2024/01/Electronic-HH.png
END:VEVENT
BEGIN:VEVENT
DTSTART;TZID=UTC:20240224T130000
DTEND;TZID=UTC:20240224T150000
DTSTAMP:20260423T094342
CREATED:20240212T030632Z
LAST-MODIFIED:20240212T151317Z
UID:63481-1708779600-1708786800@therecordpub.com
SUMMARY:TRP Bones & Brew
DESCRIPTION:Hungry for a smokin’ good deal?  \nOn Saturday\, Feb. 24\, we are teaming up with our friends at Reverend’s BBQ for TRP Bones & Brew at The Record Pub. Beginning at 1 p.m. that day\, we’ll be serving up two ribs with a side of mac ’n cheese\, bread and pint of your favorite beer for just $12 while supplies last!
URL:https://therecordpub.com/event/trp-bones-brew/
ATTACH;FMTTYPE=image/png:https://therecordpub.com/wp-content/uploads/2024/02/TRP-Bones-Brew-Square.png
END:VEVENT
BEGIN:VEVENT
DTSTART;TZID=UTC:20240228T190000
DTEND;TZID=UTC:20240228T210000
DTSTAMP:20260423T094342
CREATED:20240127T194901Z
LAST-MODIFIED:20240127T194901Z
UID:63440-1709146800-1709154000@therecordpub.com
SUMMARY:Community Trivia Night: Music/Pop Culture
DESCRIPTION:Join us as we team up with Last Call Trivia for our new Community Trivia Night on Wednesday evenings at The Record Pub. The game starts at 7 p.m.\, and you’ll want to arrive early to reserve a good space to play.   \nOur Community Trivia Nights are free to play\, and each month we’ll be donating a portion of the trivia proceeds to an area non-profit. This month\, we are partnering with the Sellwood Community House.
URL:https://therecordpub.com/event/community-trivia-night-music-pop-culture/
ATTACH;FMTTYPE=image/png:https://therecordpub.com/wp-content/uploads/2024/01/TRP-Trivia-SCH.png
END:VEVENT
BEGIN:VEVENT
DTSTART;TZID=UTC:20240229T180000
DTEND;TZID=UTC:20240229T200000
DTSTAMP:20260423T094342
CREATED:20240206T171049Z
LAST-MODIFIED:20240206T171049Z
UID:63466-1709229600-1709236800@therecordpub.com
SUMMARY:Live Music: Samie Jo
DESCRIPTION:Join us for some great Thursday happy hour live music as we welcome Samie Jo to The Record Pub. The show is free and begins at 6 p.m. Samie’s folk and classic rock roots give her sets a familiar and comforting sound while her biting original lyrics lean into current styles of sardonic artists of the new wave. \nhttps://samiejo.bandcamp.com/ \nIt’s also happy hour at TRP\, featuring $5 pints and $7 wine pours from 5 p.m. to close.
URL:https://therecordpub.com/event/live-music-samie-jo/
ATTACH;FMTTYPE=image/png:https://therecordpub.com/wp-content/uploads/2024/02/Samie-Jo-HH-229.png
END:VEVENT
BEGIN:VEVENT
DTSTART;TZID=UTC:20240306T190000
DTEND;TZID=UTC:20240306T210000
DTSTAMP:20260423T094342
CREATED:20240225T192719Z
LAST-MODIFIED:20240225T192719Z
UID:63498-1709751600-1709758800@therecordpub.com
SUMMARY:Community Trivia Night: General Knowledge
DESCRIPTION:Join us as we team up with Last Call Trivia for our new Community Trivia Night on Wednesday evenings at The Record Pub. The game starts at 7 p.m.\, and you’ll want to arrive early to reserve a good space to play.   \nOur Community Trivia Nights are free to play\, and each month we’ll be donating a portion of the trivia proceeds to an area non-profit. This month\, we are partnering with the Llewellyn Foundation.
URL:https://therecordpub.com/event/community-trivia-night-general-knowledge-4/
ATTACH;FMTTYPE=image/png:https://therecordpub.com/wp-content/uploads/2024/02/Mar_TRP-Trivia.png
END:VEVENT
BEGIN:VEVENT
DTSTART;TZID=UTC:20240307T170000
DTEND;TZID=UTC:20240307T203000
DTSTAMP:20260423T094342
CREATED:20240225T193249Z
LAST-MODIFIED:20240225T193249Z
UID:63523-1709830800-1709843400@therecordpub.com
SUMMARY:TRP Thursday Happy Hour: Female-Fronted Bands
DESCRIPTION:Join us for our TRP Thursday Happy Hour for $5 pints of premium drafts from 5 p.m. to close. \nFor this week’s music\, we’ll be playing the best in female-fronted bands in honor of International Women’s Day on March 8!
URL:https://therecordpub.com/event/trp-thursday-happy-hour-female-fronted-bands/
ATTACH;FMTTYPE=image/png:https://therecordpub.com/wp-content/uploads/2024/02/Female-Bands.png
END:VEVENT
BEGIN:VEVENT
DTSTART;VALUE=DATE:20240309
DTEND;VALUE=DATE:20240310
DTSTAMP:20260423T094342
CREATED:20240227T184855Z
LAST-MODIFIED:20240301T010319Z
UID:63535-1709942400-1710028799@therecordpub.com
SUMMARY:Tap Takeover: Block 15
DESCRIPTION:Join us Saturday\, March 9\, as we’ll be hosting an all-day Block 15 tap takeover at TRP. \nWe’ll feature five Block 15 varieties\, and be sure to be around in the afternoon when we’ll be conducting drawings for great giveaway items. \nLater that day\, we are thrilled to present a new local band\, Little Dog. The music begins at 5 p.m. and there is no cover.  \nCheck out their song “Broke the Game” on bandcamp.
URL:https://therecordpub.com/event/tap-takeover-block-15/
ATTACH;FMTTYPE=image/png:https://therecordpub.com/wp-content/uploads/2024/03/Block-15-tap-takeover-square-2.png
END:VEVENT
BEGIN:VEVENT
DTSTART;TZID=UTC:20240309T170000
DTEND;TZID=UTC:20240309T180000
DTSTAMP:20260423T094342
CREATED:20240227T185213Z
LAST-MODIFIED:20240301T010044Z
UID:63537-1710003600-1710007200@therecordpub.com
SUMMARY:Live Music: Little Dog
DESCRIPTION:We are thrilled to present a new local band\, Little Dog\, at The Record Pub on Saturday\, March 9. The music begins at 5 p.m. and there is no cover.  \nCheck out their song “Broke the Game” on bandcamp.
URL:https://therecordpub.com/event/live-music-little-dog/
ATTACH;FMTTYPE=image/png:https://therecordpub.com/wp-content/uploads/2024/02/Little-Dog-Square.png
END:VEVENT
BEGIN:VEVENT
DTSTART;TZID=UTC:20240313T190000
DTEND;TZID=UTC:20240313T210000
DTSTAMP:20260423T094342
CREATED:20240225T192747Z
LAST-MODIFIED:20240225T192747Z
UID:63502-1710356400-1710363600@therecordpub.com
SUMMARY:Community Trivia Night: General Knowledge
DESCRIPTION:Join us as we team up with Last Call Trivia for our new Community Trivia Night on Wednesday evenings at The Record Pub. The game starts at 7 p.m.\, and you’ll want to arrive early to reserve a good space to play.   \nOur Community Trivia Nights are free to play\, and each month we’ll be donating a portion of the trivia proceeds to an area non-profit. This month\, we are partnering with the Llewellyn Foundation.
URL:https://therecordpub.com/event/community-trivia-night-general-knowledge-5/
ATTACH;FMTTYPE=image/png:https://therecordpub.com/wp-content/uploads/2024/02/Mar_TRP-Trivia.png
END:VEVENT
END:VCALENDAR