
BEGIN:VCALENDAR
VERSION:2.0
PRODID:-//The Record Pub - ECPv6.15.18//NONSGML v1.0//EN
CALSCALE:GREGORIAN
METHOD:PUBLISH
X-ORIGINAL-URL:https://therecordpub.com
X-WR-CALDESC:Events for The Record Pub
REFRESH-INTERVAL;VALUE=DURATION:PT1H
X-Robots-Tag:noindex
X-PUBLISHED-TTL:PT1H
BEGIN:VTIMEZONE
TZID:UTC
BEGIN:STANDARD
TZOFFSETFROM:+0000
TZOFFSETTO:+0000
TZNAME:UTC
DTSTART:20240101T000000
END:STANDARD
END:VTIMEZONE
BEGIN:VEVENT
DTSTART;TZID=UTC:20251210T190000
DTEND;TZID=UTC:20251210T210000
DTSTAMP:20260420T081426
CREATED:20251127T162341Z
LAST-MODIFIED:20251127T162341Z
UID:64960-1765393200-1765400400@therecordpub.com
SUMMARY:Community Trivia Night: Music
DESCRIPTION:Join us as we team up with Last Call Trivia for our new Community Trivia Night on Wednesday evenings at The Record Pub. The game starts at 7 p.m.\, and you’ll want to arrive early to reserve a good space to play.   \nOur Community Trivia Nights are free to play\, and each month we’ll be donating a portion of the trivia proceeds to an area non-profit.
URL:https://therecordpub.com/event/community-trivia-night-music-15/
ATTACH;FMTTYPE=image/png:https://therecordpub.com/wp-content/uploads/2025/11/TRP-Trivia-DEC25-SQ.png
END:VEVENT
BEGIN:VEVENT
DTSTART;VALUE=DATE:20251211
DTEND;VALUE=DATE:20251212
DTSTAMP:20260420T081426
CREATED:20251127T162712Z
LAST-MODIFIED:20251127T162712Z
UID:64970-1765411200-1765497599@therecordpub.com
SUMMARY:All-Day Happy Hour
DESCRIPTION:Join us every Tuesday and Thursday for our all-day happy hour\, featuring $5 premium pints\, $7 wine pours and $2 hot dogs to go with your record-digging!
URL:https://therecordpub.com/event/all-day-happy-hour-88/
ATTACH;FMTTYPE=image/png:https://therecordpub.com/wp-content/uploads/2025/02/All-Day-Happy-Hour-SQ-1.png
END:VEVENT
BEGIN:VEVENT
DTSTART;TZID=UTC:20251213T190000
DTEND;TZID=UTC:20251213T210000
DTSTAMP:20260420T081426
CREATED:20251202T044155Z
LAST-MODIFIED:20251202T044155Z
UID:64990-1765652400-1765659600@therecordpub.com
SUMMARY:Live Music: Templeton Peck presents "Peck Sabbath"
DESCRIPTION:You won’t want to miss this one\, as noted neighborhood rockers Templeton Peck take on the Black Sabbath catalog for their presentation of “Peck Sabbath.” \nMusic starts at 7 p.m.\, no cover.
URL:https://therecordpub.com/event/live-music-templeton-peck-presents-peck-sabbath/
ATTACH;FMTTYPE=image/jpeg:https://therecordpub.com/wp-content/uploads/2025/12/PeckSabbathSQ-scaled.jpg
END:VEVENT
BEGIN:VEVENT
DTSTART;VALUE=DATE:20251216
DTEND;VALUE=DATE:20251217
DTSTAMP:20260420T081426
CREATED:20251127T162748Z
LAST-MODIFIED:20251127T162759Z
UID:64972-1765843200-1765929599@therecordpub.com
SUMMARY:All-Day Happy Hour
DESCRIPTION:Join us every Tuesday and Thursday for our all-day happy hour\, featuring $5 premium pints\, $7 wine pours and $2 hot dogs to go with your record-digging!
URL:https://therecordpub.com/event/all-day-happy-hour-89/
ATTACH;FMTTYPE=image/png:https://therecordpub.com/wp-content/uploads/2025/02/All-Day-Happy-Hour-SQ-1.png
END:VEVENT
BEGIN:VEVENT
DTSTART;TZID=UTC:20251217T190000
DTEND;TZID=UTC:20251217T210000
DTSTAMP:20260420T081426
CREATED:20251127T162423Z
LAST-MODIFIED:20251127T162423Z
UID:64962-1765998000-1766005200@therecordpub.com
SUMMARY:Community Trivia Night: General Knowledge
DESCRIPTION:Join us as we team up with Last Call Trivia for our new Community Trivia Night on Wednesday evenings at The Record Pub. The game starts at 7 p.m.\, and you’ll want to arrive early to reserve a good space to play.   \nOur Community Trivia Nights are free to play\, and each month we’ll be donating a portion of the trivia proceeds to an area non-profit.
URL:https://therecordpub.com/event/community-trivia-night-general-knowledge-67/
ATTACH;FMTTYPE=image/png:https://therecordpub.com/wp-content/uploads/2025/11/TRP-Trivia-DEC25-SQ.png
END:VEVENT
BEGIN:VEVENT
DTSTART;TZID=UTC:20251218T190000
DTEND;TZID=UTC:20251218T210000
DTSTAMP:20260420T081426
CREATED:20251215T160324Z
LAST-MODIFIED:20251215T160324Z
UID:65009-1766084400-1766091600@therecordpub.com
SUMMARY:Rebel Carnations Club
DESCRIPTION:Join us as we host the second meeting of the Rebel Carnations club\, where we celebrate all things Twenty One Pilots. All are welcome to attend and join our building TOP club!
URL:https://therecordpub.com/event/rebel-carnations-club-2/
ATTACH;FMTTYPE=image/png:https://therecordpub.com/wp-content/uploads/2025/12/TOPDecember.png
END:VEVENT
BEGIN:VEVENT
DTSTART;VALUE=DATE:20251223
DTEND;VALUE=DATE:20251224
DTSTAMP:20260420T081426
CREATED:20251127T162838Z
LAST-MODIFIED:20251127T162924Z
UID:64974-1766448000-1766534399@therecordpub.com
SUMMARY:All-Day Happy Hour
DESCRIPTION:Join us every Tuesday and Thursday for our all-day happy hour\, featuring $5 premium pints\, $7 wine pours and $2 hot dogs to go with your record-digging!
URL:https://therecordpub.com/event/all-day-happy-hour-90/
ATTACH;FMTTYPE=image/png:https://therecordpub.com/wp-content/uploads/2025/02/All-Day-Happy-Hour-SQ-1.png
END:VEVENT
BEGIN:VEVENT
DTSTART;TZID=UTC:20251223T190000
DTEND;TZID=UTC:20251223T210000
DTSTAMP:20260420T081426
CREATED:20251202T043537Z
LAST-MODIFIED:20251202T044402Z
UID:64987-1766516400-1766523600@therecordpub.com
SUMMARY:Live Music: Radar Bang Special Holiday Show
DESCRIPTION:Join us on Tuesday\, Dec. 23\, when we welcome local artists Radar Bang back to The Record Pub for their annual holiday show.  \nMusic starts at 7 p.m.\, no cover.
URL:https://therecordpub.com/event/live-music-radar-bang-special-holiday-show/
ATTACH;FMTTYPE=image/jpeg:https://therecordpub.com/wp-content/uploads/2025/12/radarbangsq.jpg
END:VEVENT
BEGIN:VEVENT
DTSTART;VALUE=DATE:20251230
DTEND;VALUE=DATE:20251231
DTSTAMP:20260420T081426
CREATED:20251127T163012Z
LAST-MODIFIED:20251127T163012Z
UID:64977-1767052800-1767139199@therecordpub.com
SUMMARY:All-Day Happy Hour
DESCRIPTION:Join us every Tuesday and Thursday for our all-day happy hour\, featuring $5 premium pints\, $7 wine pours and $2 hot dogs to go with your record-digging!
URL:https://therecordpub.com/event/all-day-happy-hour-91/
ATTACH;FMTTYPE=image/png:https://therecordpub.com/wp-content/uploads/2025/02/All-Day-Happy-Hour-SQ-1.png
END:VEVENT
BEGIN:VEVENT
DTSTART;VALUE=DATE:20260101
DTEND;VALUE=DATE:20260102
DTSTAMP:20260420T081426
CREATED:20251127T163140Z
LAST-MODIFIED:20251127T163215Z
UID:64979-1767225600-1767311999@therecordpub.com
SUMMARY:All-Day Happy Hour
DESCRIPTION:We are open 11 a.m. to 9 p.m. on New Year’s Day\, celebrating with discounted pints and $2 hot dogs.
URL:https://therecordpub.com/event/all-day-happy-hour-92/
ATTACH;FMTTYPE=image/png:https://therecordpub.com/wp-content/uploads/2025/02/All-Day-Happy-Hour-SQ-1.png
END:VEVENT
BEGIN:VEVENT
DTSTART;VALUE=DATE:20260106
DTEND;VALUE=DATE:20260107
DTSTAMP:20260420T081426
CREATED:20260101T215139Z
LAST-MODIFIED:20260101T215139Z
UID:65042-1767657600-1767743999@therecordpub.com
SUMMARY:All-Day Happy Hour
DESCRIPTION:Join us for our all-day happy hour every Tuesday and Thursday\, featuring $2 hot dogs and $2 off premium drafts\, cider and wine pours.
URL:https://therecordpub.com/event/all-day-happy-hour-93/
ATTACH;FMTTYPE=image/png:https://therecordpub.com/wp-content/uploads/2026/01/All-Day-Happy-Hour-SQ.png
END:VEVENT
BEGIN:VEVENT
DTSTART;TZID=UTC:20260107T190000
DTEND;TZID=UTC:20260107T210000
DTSTAMP:20260420T081426
CREATED:20260101T214535Z
LAST-MODIFIED:20260101T214535Z
UID:65033-1767812400-1767819600@therecordpub.com
SUMMARY:Community Trivia Night: General Knowledge
DESCRIPTION:Join us as we team up with Last Call Trivia for our new Community Trivia Night on Wednesday evenings at The Record Pub. The game starts at 7 p.m.\, and you’ll want to arrive early to reserve a good space to play.   \nOur Community Trivia Nights are free to play\, and each month we’ll be donating a portion of the trivia proceeds to an area non-profit.
URL:https://therecordpub.com/event/community-trivia-night-general-knowledge-68/
ATTACH;FMTTYPE=image/png:https://therecordpub.com/wp-content/uploads/2026/01/TRP-Trivia-JAN-26-SQ.png
END:VEVENT
BEGIN:VEVENT
DTSTART;VALUE=DATE:20260108
DTEND;VALUE=DATE:20260109
DTSTAMP:20260420T081426
CREATED:20260101T215248Z
LAST-MODIFIED:20260101T215248Z
UID:65044-1767830400-1767916799@therecordpub.com
SUMMARY:All-Day Happy Hour
DESCRIPTION:Join us for our all-day happy hour every Tuesday and Thursday\, featuring $2 hot dogs and $2 off premium drafts\, cider and wine pours.
URL:https://therecordpub.com/event/all-day-happy-hour-94/
ATTACH;FMTTYPE=image/png:https://therecordpub.com/wp-content/uploads/2026/01/All-Day-Happy-Hour-SQ.png
END:VEVENT
BEGIN:VEVENT
DTSTART;VALUE=DATE:20260113
DTEND;VALUE=DATE:20260114
DTSTAMP:20260420T081426
CREATED:20260101T220337Z
LAST-MODIFIED:20260101T220337Z
UID:65046-1768262400-1768348799@therecordpub.com
SUMMARY:All-Day Happy Hour
DESCRIPTION:Join us for our all-day happy hour every Tuesday and Thursday\, featuring $2 hot dogs and $2 off premium drafts\, cider and wine pours.
URL:https://therecordpub.com/event/all-day-happy-hour-95/
ATTACH;FMTTYPE=image/png:https://therecordpub.com/wp-content/uploads/2026/01/All-Day-Happy-Hour-SQ.png
END:VEVENT
BEGIN:VEVENT
DTSTART;TZID=UTC:20260114T190000
DTEND;TZID=UTC:20260114T210000
DTSTAMP:20260420T081426
CREATED:20260101T214852Z
LAST-MODIFIED:20260101T214852Z
UID:65038-1768417200-1768424400@therecordpub.com
SUMMARY:Community Trivia Night: Music
DESCRIPTION:Join us as we team up with Last Call Trivia for our new Community Trivia Night on Wednesday evenings at The Record Pub. The game starts at 7 p.m.\, and you’ll want to arrive early to reserve a good space to play.   \nOur Community Trivia Nights are free to play\, and each month we’ll be donating a portion of the trivia proceeds to an area non-profit.
URL:https://therecordpub.com/event/community-trivia-night-music-16/
ATTACH;FMTTYPE=image/png:https://therecordpub.com/wp-content/uploads/2026/01/TRP-Trivia-JAN-26-SQ.png
END:VEVENT
BEGIN:VEVENT
DTSTART;VALUE=DATE:20260115
DTEND;VALUE=DATE:20260116
DTSTAMP:20260420T081426
CREATED:20260101T220528Z
LAST-MODIFIED:20260101T220528Z
UID:65050-1768435200-1768521599@therecordpub.com
SUMMARY:All-Day Happy Hour
DESCRIPTION:Join us for our all-day happy hour every Tuesday and Thursday\, featuring $2 hot dogs and $2 off premium drafts\, cider and wine pours.
URL:https://therecordpub.com/event/all-day-happy-hour-97/
ATTACH;FMTTYPE=image/png:https://therecordpub.com/wp-content/uploads/2026/01/All-Day-Happy-Hour-SQ.png
END:VEVENT
BEGIN:VEVENT
DTSTART;TZID=UTC:20260115T190000
DTEND;TZID=UTC:20260115T210000
DTSTAMP:20260420T081426
CREATED:20260113T193749Z
LAST-MODIFIED:20260113T193749Z
UID:65077-1768503600-1768510800@therecordpub.com
SUMMARY:Rebel Carnations Club
DESCRIPTION:We are hosting our monthly gathering of local Twenty One Pilots fans\, the Rebel Carnations Club\, on Thursday\, Jan. 15.  \nJoin us at 7 p.m. to share your appreciation of all things Twenty One Pilots and meet some really great people in the process! Come prepared for some fun TOP trivia provided by @rebel.redcarnations as well.
URL:https://therecordpub.com/event/rebel-carnations-club-3/
ATTACH;FMTTYPE=image/png:https://therecordpub.com/wp-content/uploads/2026/01/Twenty-One-Pilots-Club-January-IG.png
END:VEVENT
BEGIN:VEVENT
DTSTART;TZID=UTC:20260117T150000
DTEND;TZID=UTC:20260117T160000
DTSTAMP:20260420T081426
CREATED:20260112T192011Z
LAST-MODIFIED:20260112T192011Z
UID:65070-1768662000-1768665600@therecordpub.com
SUMMARY:Madison Beer Release Party
DESCRIPTION:The Record Pub is hosting a release party for Madison Beer’s latest record\, “Locket\,” on Saturday\, Jan. 17\, at 3 p.m. \nJoin us for a fun event featuring giveaways\, drink specials and a chance to win a signed vinyl copy of Madison’s new record! All ages are welcome!
URL:https://therecordpub.com/event/madison-beer-release-party/
ATTACH;FMTTYPE=image/png:https://therecordpub.com/wp-content/uploads/2026/01/Madison-Main-2.png
END:VEVENT
BEGIN:VEVENT
DTSTART;TZID=UTC:20260118T140000
DTEND;TZID=UTC:20260118T150000
DTSTAMP:20260420T081426
CREATED:20260107T214656Z
LAST-MODIFIED:20260107T214656Z
UID:65064-1768744800-1768748400@therecordpub.com
SUMMARY:The Format Preview Listening Party
DESCRIPTION:The Record Pub will be hosting a special preview listening party for the new album from @theformat on Sunday\, Jan. 18\, at 2 p.m. \nGet an early listen to the band’s new LP\, “Boycott Heaven\,” and enjoy happy hour pricing on drinks with $2 off pints and wine pours from 1-3 p.m. that day at TRP. The new album\, which hits stores on Jan. 23\, will be available for preorder as part of the listening party.
URL:https://therecordpub.com/event/the-format-preview-listening-party/
ATTACH;FMTTYPE=image/png:https://therecordpub.com/wp-content/uploads/2026/01/The-Format-Main-1.png
END:VEVENT
BEGIN:VEVENT
DTSTART;VALUE=DATE:20260120
DTEND;VALUE=DATE:20260121
DTSTAMP:20260420T081426
CREATED:20260101T220418Z
LAST-MODIFIED:20260101T220446Z
UID:65048-1768867200-1768953599@therecordpub.com
SUMMARY:All-Day Happy Hour
DESCRIPTION:Join us for our all-day happy hour every Tuesday and Thursday\, featuring $2 hot dogs and $2 off premium drafts\, cider and wine pours.
URL:https://therecordpub.com/event/all-day-happy-hour-96/
ATTACH;FMTTYPE=image/png:https://therecordpub.com/wp-content/uploads/2026/01/All-Day-Happy-Hour-SQ.png
END:VEVENT
BEGIN:VEVENT
DTSTART;TZID=UTC:20260121T190000
DTEND;TZID=UTC:20260121T210000
DTSTAMP:20260420T081426
CREATED:20260101T214608Z
LAST-MODIFIED:20260101T214608Z
UID:65036-1769022000-1769029200@therecordpub.com
SUMMARY:Community Trivia Night: General Knowledge
DESCRIPTION:Join us as we team up with Last Call Trivia for our new Community Trivia Night on Wednesday evenings at The Record Pub. The game starts at 7 p.m.\, and you’ll want to arrive early to reserve a good space to play.   \nOur Community Trivia Nights are free to play\, and each month we’ll be donating a portion of the trivia proceeds to an area non-profit.
URL:https://therecordpub.com/event/community-trivia-night-general-knowledge-69/
ATTACH;FMTTYPE=image/png:https://therecordpub.com/wp-content/uploads/2026/01/TRP-Trivia-JAN-26-SQ.png
END:VEVENT
BEGIN:VEVENT
DTSTART;VALUE=DATE:20260122
DTEND;VALUE=DATE:20260123
DTSTAMP:20260420T081426
CREATED:20260101T221437Z
LAST-MODIFIED:20260101T221437Z
UID:65052-1769040000-1769126399@therecordpub.com
SUMMARY:All-Day Happy Hour
DESCRIPTION:Join us for our all-day happy hour every Tuesday and Thursday\, featuring $2 hot dogs and $2 off premium drafts\, cider and wine pours.
URL:https://therecordpub.com/event/all-day-happy-hour-98/
ATTACH;FMTTYPE=image/png:https://therecordpub.com/wp-content/uploads/2026/01/All-Day-Happy-Hour-SQ.png
END:VEVENT
BEGIN:VEVENT
DTSTART;TZID=UTC:20260123T190000
DTEND;TZID=UTC:20260123T200000
DTSTAMP:20260420T081426
CREATED:20260117T212148Z
LAST-MODIFIED:20260117T212148Z
UID:65081-1769194800-1769198400@therecordpub.com
SUMMARY:Megadeth Listening Party
DESCRIPTION:The Record Pub is hosting a MEGA-WEEKEND listening party for the release of Megadeth’s new album on Friday\, Jan 23\, at 7 p.m. \nJoin us to celebrate the band’s four-decade legacy and listen to its final studio album on the day the self-titled release hits stores. \nGet a limited-edition sleeve for the newest addition to your Megadeth collection (this sleeve comes with purchase while supplies last and is ONLY available at #megaweekend events)\, and we’ll be giving away an autographed poster from the band to one lucky winner. \nWe’ll be featuring other giveaways and $2 off pints and wine pours during the event\, so join us for our MEGA-WEEKEND party!
URL:https://therecordpub.com/event/megadeth-listening-party/
ATTACH;FMTTYPE=image/png:https://therecordpub.com/wp-content/uploads/2026/01/Megadeth-Main.png
END:VEVENT
BEGIN:VEVENT
DTSTART;VALUE=DATE:20260127
DTEND;VALUE=DATE:20260128
DTSTAMP:20260420T081426
CREATED:20260101T221545Z
LAST-MODIFIED:20260101T221545Z
UID:65054-1769472000-1769558399@therecordpub.com
SUMMARY:All-Day Happy Hour
DESCRIPTION:Join us for our all-day happy hour every Tuesday and Thursday\, featuring $2 hot dogs and $2 off premium drafts\, cider and wine pours.
URL:https://therecordpub.com/event/all-day-happy-hour-99/
ATTACH;FMTTYPE=image/png:https://therecordpub.com/wp-content/uploads/2026/01/All-Day-Happy-Hour-SQ.png
END:VEVENT
BEGIN:VEVENT
DTSTART;TZID=UTC:20260128T190000
DTEND;TZID=UTC:20260128T210000
DTSTAMP:20260420T081426
CREATED:20260101T214924Z
LAST-MODIFIED:20260101T214924Z
UID:65040-1769626800-1769634000@therecordpub.com
SUMMARY:Community Trivia Night: Music
DESCRIPTION:Join us as we team up with Last Call Trivia for our new Community Trivia Night on Wednesday evenings at The Record Pub. The game starts at 7 p.m.\, and you’ll want to arrive early to reserve a good space to play.   \nOur Community Trivia Nights are free to play\, and each month we’ll be donating a portion of the trivia proceeds to an area non-profit.
URL:https://therecordpub.com/event/community-trivia-night-music-17/
ATTACH;FMTTYPE=image/png:https://therecordpub.com/wp-content/uploads/2026/01/TRP-Trivia-JAN-26-SQ.png
END:VEVENT
BEGIN:VEVENT
DTSTART;VALUE=DATE:20260129
DTEND;VALUE=DATE:20260130
DTSTAMP:20260420T081426
CREATED:20260101T221631Z
LAST-MODIFIED:20260101T221631Z
UID:65056-1769644800-1769731199@therecordpub.com
SUMMARY:All-Day Happy Hour
DESCRIPTION:Join us for our all-day happy hour every Tuesday and Thursday\, featuring $2 hot dogs and $2 off premium drafts\, cider and wine pours.
URL:https://therecordpub.com/event/all-day-happy-hour-100/
ATTACH;FMTTYPE=image/png:https://therecordpub.com/wp-content/uploads/2026/01/All-Day-Happy-Hour-SQ.png
END:VEVENT
BEGIN:VEVENT
DTSTART;TZID=UTC:20260129T190000
DTEND;TZID=UTC:20260129T200000
DTSTAMP:20260420T081426
CREATED:20260112T192816Z
LAST-MODIFIED:20260112T192816Z
UID:65073-1769713200-1769716800@therecordpub.com
SUMMARY:Joyce Manor Listening Party
DESCRIPTION:The Record Pub will be hosting a listening party for the new LP from @joycemanorofficial\, “I Used To Go To This Bar\,” on Thursday\, Jan. 29\, at 7 p.m. \nJoin us for giveaways\, all-day happy hour and first chance at listening to the band’s new record.
URL:https://therecordpub.com/event/joyce-manor-listening-party/
ATTACH;FMTTYPE=image/png:https://therecordpub.com/wp-content/uploads/2026/01/Joyce-Manor-Main-2.png
END:VEVENT
BEGIN:VEVENT
DTSTART;VALUE=DATE:20260203
DTEND;VALUE=DATE:20260204
DTSTAMP:20260420T081426
CREATED:20260130T201624Z
LAST-MODIFIED:20260130T201624Z
UID:65100-1770076800-1770163199@therecordpub.com
SUMMARY:All-Day Happy Hour
DESCRIPTION:Join us for our all-day happy hour every Tuesday and Thursday\, featuring $2 hot dogs and $2 off premium drafts\, cider and wine pours.
URL:https://therecordpub.com/event/all-day-happy-hour-101/
ATTACH;FMTTYPE=image/png:https://therecordpub.com/wp-content/uploads/2026/01/All-Day-Happy-Hour-SQ.png
END:VEVENT
BEGIN:VEVENT
DTSTART;TZID=UTC:20260204T190000
DTEND;TZID=UTC:20260204T210000
DTSTAMP:20260420T081426
CREATED:20260130T202551Z
LAST-MODIFIED:20260203T183901Z
UID:65104-1770231600-1770238800@therecordpub.com
SUMMARY:Community Trivia Night: General Knowledge
DESCRIPTION:Join us as we team up with Last Call Trivia for our new Community Trivia Night on Wednesday evenings at The Record Pub. The game starts at 7 p.m.\, and you’ll want to arrive early to reserve a good space to play.   \nOur Community Trivia Nights are free to play\, and each month we’ll be donating a portion of the trivia proceeds to an area non-profit.
URL:https://therecordpub.com/event/community-trivia-night-general-knowledge-70/
ATTACH;FMTTYPE=image/png:https://therecordpub.com/wp-content/uploads/2026/01/TRP-Trivia-FEB-26-PRP-SQ.png
END:VEVENT
BEGIN:VEVENT
DTSTART;VALUE=DATE:20260205
DTEND;VALUE=DATE:20260206
DTSTAMP:20260420T081426
CREATED:20260130T201710Z
LAST-MODIFIED:20260130T201710Z
UID:65102-1770249600-1770335999@therecordpub.com
SUMMARY:All-Day Happy Hour
DESCRIPTION:Join us for our all-day happy hour every Tuesday and Thursday\, featuring $2 hot dogs and $2 off premium drafts\, cider and wine pours.
URL:https://therecordpub.com/event/all-day-happy-hour-102/
ATTACH;FMTTYPE=image/png:https://therecordpub.com/wp-content/uploads/2026/01/All-Day-Happy-Hour-SQ.png
END:VEVENT
END:VCALENDAR