
BEGIN:VCALENDAR
VERSION:2.0
PRODID:-//The Record Pub - ECPv6.15.18//NONSGML v1.0//EN
CALSCALE:GREGORIAN
METHOD:PUBLISH
X-WR-CALNAME:The Record Pub
X-ORIGINAL-URL:https://therecordpub.com
X-WR-CALDESC:Events for The Record Pub
REFRESH-INTERVAL;VALUE=DURATION:PT1H
X-Robots-Tag:noindex
X-PUBLISHED-TTL:PT1H
BEGIN:VTIMEZONE
TZID:UTC
BEGIN:STANDARD
TZOFFSETFROM:+0000
TZOFFSETTO:+0000
TZNAME:UTC
DTSTART:20240101T000000
END:STANDARD
END:VTIMEZONE
BEGIN:VEVENT
DTSTART;VALUE=DATE:20251028
DTEND;VALUE=DATE:20251029
DTSTAMP:20260424T081919
CREATED:20251004T191625Z
LAST-MODIFIED:20251004T191625Z
UID:64827-1761609600-1761695999@therecordpub.com
SUMMARY:All-Day Happy Hour
DESCRIPTION:Join us every Tuesday and Thursday for our all-day happy hour\, featuring $5 premium pints\, $7 wine pours and $2 hot dogs to go with your record-digging!
URL:https://therecordpub.com/event/all-day-happy-hour-77/
ATTACH;FMTTYPE=image/png:https://therecordpub.com/wp-content/uploads/2025/02/All-Day-Happy-Hour-SQ-1.png
END:VEVENT
BEGIN:VEVENT
DTSTART;TZID=UTC:20251025T160000
DTEND;TZID=UTC:20251025T173000
DTSTAMP:20260424T081919
CREATED:20251018T211003Z
LAST-MODIFIED:20251018T211003Z
UID:64868-1761408000-1761413400@therecordpub.com
SUMMARY:Live Music: Charboneau
DESCRIPTION:Join us a special in-store show from local artists\, Charboneau\, in support of their new record. Music starts at 4 p.m. on Saturday\, Oct. 25\, no cover.
URL:https://therecordpub.com/event/live-music-charboneau/
ATTACH;FMTTYPE=image/png:https://therecordpub.com/wp-content/uploads/2025/10/Charboneau.png
END:VEVENT
BEGIN:VEVENT
DTSTART;VALUE=DATE:20251023
DTEND;VALUE=DATE:20251024
DTSTAMP:20260424T081919
CREATED:20251004T191537Z
LAST-MODIFIED:20251004T191537Z
UID:64824-1761177600-1761263999@therecordpub.com
SUMMARY:All-Day Happy Hour
DESCRIPTION:Join us every Tuesday and Thursday for our all-day happy hour\, featuring $5 premium pints\, $7 wine pours and $2 hot dogs to go with your record-digging!
URL:https://therecordpub.com/event/all-day-happy-hour-76/
ATTACH;FMTTYPE=image/png:https://therecordpub.com/wp-content/uploads/2025/02/All-Day-Happy-Hour-SQ-1.png
END:VEVENT
BEGIN:VEVENT
DTSTART;TZID=UTC:20251022T190000
DTEND;TZID=UTC:20251022T210000
DTSTAMP:20260424T081919
CREATED:20251004T193221Z
LAST-MODIFIED:20251004T193221Z
UID:64837-1761159600-1761166800@therecordpub.com
SUMMARY:Community Trivia Night: General Knowledge
DESCRIPTION:Join us as we team up with Last Call Trivia for our new Community Trivia Night on Wednesday evenings at The Record Pub. The game starts at 7 p.m.\, and you’ll want to arrive early to reserve a good space to play.   \nOur Community Trivia Nights are free to play\, and each month we’ll be donating a portion of the trivia proceeds to an area non-profit.
URL:https://therecordpub.com/event/community-trivia-night-general-knowledge-63/
ATTACH;FMTTYPE=image/png:https://therecordpub.com/wp-content/uploads/2025/10/TRP-Trivia-OCT2225-Floyd-Light-SQ-.png
END:VEVENT
BEGIN:VEVENT
DTSTART;VALUE=DATE:20251021
DTEND;VALUE=DATE:20251022
DTSTAMP:20260424T081919
CREATED:20251004T191510Z
LAST-MODIFIED:20251004T191510Z
UID:64823-1761004800-1761091199@therecordpub.com
SUMMARY:All-Day Happy Hour
DESCRIPTION:Join us every Tuesday and Thursday for our all-day happy hour\, featuring $5 premium pints\, $7 wine pours and $2 hot dogs to go with your record-digging!
URL:https://therecordpub.com/event/all-day-happy-hour-75/
ATTACH;FMTTYPE=image/png:https://therecordpub.com/wp-content/uploads/2025/02/All-Day-Happy-Hour-SQ-1.png
END:VEVENT
BEGIN:VEVENT
DTSTART;TZID=UTC:20251020T190000
DTEND;TZID=UTC:20251020T203000
DTSTAMP:20260424T081919
CREATED:20251018T205513Z
LAST-MODIFIED:20251018T205513Z
UID:64862-1760986800-1760992200@therecordpub.com
SUMMARY:Daniel Caesar Listening Party
DESCRIPTION:TRP will be hosting a Daniel Caesar preview listening party at The Record Pub on Monday\, Oct. 20 at 7 p.m. Caesar’s new LP ‘Son of Spergy’ comes out Oct. 24. \nWe’ll be open 5-9 p.m. on Monday. Join us for drink specials from 6-8 p.m. with $5 draft pints and $7 wine pours. We’ll have posters and surprises to give away!
URL:https://therecordpub.com/event/daniel-caesar-listening-party/
ATTACH;FMTTYPE=image/png:https://therecordpub.com/wp-content/uploads/2025/10/DC_SQ_1.png
END:VEVENT
BEGIN:VEVENT
DTSTART;TZID=UTC:20251016T174500
DTEND;TZID=UTC:20251016T210000
DTSTAMP:20260424T081919
CREATED:20251014T154214Z
LAST-MODIFIED:20251014T154214Z
UID:64857-1760636700-1760648400@therecordpub.com
SUMMARY:Private Event: TRP Closes at 5:45 PM
DESCRIPTION:We will be closing at 5:45 p.m. on Thursday\, Oct. 16\, for a private event. For inquires on how to host your next event at The Record Pub\, send us an email on our contact page.
URL:https://therecordpub.com/event/private-event-trp-closes-at-545-pm/
END:VEVENT
BEGIN:VEVENT
DTSTART;VALUE=DATE:20251016
DTEND;VALUE=DATE:20251017
DTSTAMP:20260424T081919
CREATED:20251004T191408Z
LAST-MODIFIED:20251004T191408Z
UID:64821-1760572800-1760659199@therecordpub.com
SUMMARY:All-Day Happy Hour
DESCRIPTION:Join us every Tuesday and Thursday for our all-day happy hour\, featuring $5 premium pints\, $7 wine pours and $2 hot dogs to go with your record-digging!
URL:https://therecordpub.com/event/all-day-happy-hour-74/
ATTACH;FMTTYPE=image/png:https://therecordpub.com/wp-content/uploads/2025/02/All-Day-Happy-Hour-SQ-1.png
END:VEVENT
BEGIN:VEVENT
DTSTART;TZID=UTC:20251015T190000
DTEND;TZID=UTC:20251015T210000
DTSTAMP:20260424T081919
CREATED:20251004T193002Z
LAST-MODIFIED:20251004T193050Z
UID:64833-1760554800-1760562000@therecordpub.com
SUMMARY:Community Trivia Night: General Knowledge
DESCRIPTION:Join us as we team up with Last Call Trivia for our new Community Trivia Night on Wednesday evenings at The Record Pub. The game starts at 7 p.m.\, and you’ll want to arrive early to reserve a good space to play.   \nOur Community Trivia Nights are free to play\, and each month we’ll be donating a portion of the trivia proceeds to an area non-profit.
URL:https://therecordpub.com/event/community-trivia-night-general-knowledge-62/
ATTACH;FMTTYPE=image/png:https://therecordpub.com/wp-content/uploads/2025/10/TRP-Trivia-OCT2225-Floyd-Light-SQ-.png
END:VEVENT
BEGIN:VEVENT
DTSTART;VALUE=DATE:20251014
DTEND;VALUE=DATE:20251015
DTSTAMP:20260424T081919
CREATED:20251004T190859Z
LAST-MODIFIED:20251004T190859Z
UID:64818-1760400000-1760486399@therecordpub.com
SUMMARY:All-Day Happy Hour
DESCRIPTION:Join us every Tuesday and Thursday for our all-day happy hour\, featuring $5 premium pints\, $7 wine pours and $2 hot dogs to go with your record-digging!
URL:https://therecordpub.com/event/all-day-happy-hour-73/
ATTACH;FMTTYPE=image/png:https://therecordpub.com/wp-content/uploads/2025/02/All-Day-Happy-Hour-SQ-1.png
END:VEVENT
BEGIN:VEVENT
DTSTART;TZID=UTC:20251010T180000
DTEND;TZID=UTC:20251010T200000
DTSTAMP:20260424T081919
CREATED:20251004T194934Z
LAST-MODIFIED:20251004T194934Z
UID:64840-1760119200-1760126400@therecordpub.com
SUMMARY:Live Music - Samie Jo Release Party
DESCRIPTION:Samie Jo is part of our extended family at TRP\, and we are thrilled to host a special digital album release party for her new effort\, “The Hawthorne Bridge Suite.”  \nLive music starts at 6 p.m. Be sure to check out her new tunes and a ton of her other songs here.
URL:https://therecordpub.com/event/live-music-samie-jo-release-party/
ATTACH;FMTTYPE=image/png:https://therecordpub.com/wp-content/uploads/2025/10/Samie-Jo-1010-SQ.png
END:VEVENT
BEGIN:VEVENT
DTSTART;VALUE=DATE:20251009
DTEND;VALUE=DATE:20251010
DTSTAMP:20260424T081919
CREATED:20251004T190835Z
LAST-MODIFIED:20251004T190835Z
UID:64817-1759968000-1760054399@therecordpub.com
SUMMARY:All-Day Happy Hour
DESCRIPTION:Join us every Tuesday and Thursday for our all-day happy hour\, featuring $5 premium pints\, $7 wine pours and $2 hot dogs to go with your record-digging!
URL:https://therecordpub.com/event/all-day-happy-hour-72/
ATTACH;FMTTYPE=image/png:https://therecordpub.com/wp-content/uploads/2025/02/All-Day-Happy-Hour-SQ-1.png
END:VEVENT
BEGIN:VEVENT
DTSTART;TZID=UTC:20251008T190000
DTEND;TZID=UTC:20251008T210000
DTSTAMP:20260424T081919
CREATED:20251004T190313Z
LAST-MODIFIED:20251004T190628Z
UID:64811-1759950000-1759957200@therecordpub.com
SUMMARY:Lord Huron Prize - Community Trivia Night
DESCRIPTION:For our next music-themed Community Trivia at TRP\, you have the chance to win two (2) tickets to the upcoming Lord Huron show at Moda Center. The show is Friday\, Oct. 17\, and the tickets go the first-place winner of Community Trivia Night on Wednesday\, Oct. 8!
URL:https://therecordpub.com/event/lord-huron-trivia/
ATTACH;FMTTYPE=image/png:https://therecordpub.com/wp-content/uploads/2025/10/TRP-Trivia-OCT0825-Lord-Huron.png
END:VEVENT
BEGIN:VEVENT
DTSTART;VALUE=DATE:20251007
DTEND;VALUE=DATE:20251008
DTSTAMP:20260424T081919
CREATED:20251004T190752Z
LAST-MODIFIED:20251004T190752Z
UID:64815-1759795200-1759881599@therecordpub.com
SUMMARY:All-Day Happy Hour
DESCRIPTION:Join us every Tuesday and Thursday for our all-day happy hour\, featuring $5 premium pints\, $7 wine pours and $2 hot dogs to go with your record-digging!
URL:https://therecordpub.com/event/all-day-happy-hour-71/
ATTACH;FMTTYPE=image/png:https://therecordpub.com/wp-content/uploads/2025/02/All-Day-Happy-Hour-SQ-1.png
END:VEVENT
BEGIN:VEVENT
DTSTART;TZID=UTC:20251003T110000
DTEND;TZID=UTC:20251003T220000
DTSTAMP:20260424T081919
CREATED:20250922T163106Z
LAST-MODIFIED:20250922T163149Z
UID:64798-1759489200-1759528800@therecordpub.com
SUMMARY:Taylor Swift "Showgirl" All-Day Release Party
DESCRIPTION:Join us at The Record Pub as we celebrate Taylor Swift’s 12th studio album\, “The Life of a Showgirl\,” on Friday\, Oct. 3. \nWe’re going full sparkle at The Record Pub for an All-Day Showgirl Album Release Party celebrating Taylor Swift’s 12th studio album\,\nThe Life of a Showgirl.” \n???? All-day happy hour (11am-10pm)\n???? Showgirl Glitter Mimosa + Glitter Soda\n???? Dazzling decor\n✨ Giveaways: Showgirl tattoos\, friendship bracelets + surprises  \nBe sure to be on hand between 4-7 p.m. for repeated listening of the new record and prize drawings!  \nAll ages welcome. Bring your best showgirl energy—let’s make it a glitter storm!
URL:https://therecordpub.com/event/taylor-swift-showgirl-all-day-release-party/
ATTACH;FMTTYPE=image/png:https://therecordpub.com/wp-content/uploads/2025/09/TS2.png
END:VEVENT
BEGIN:VEVENT
DTSTART;VALUE=DATE:20251002
DTEND;VALUE=DATE:20251003
DTSTAMP:20260424T081919
CREATED:20250920T230524Z
LAST-MODIFIED:20250920T230524Z
UID:64796-1759363200-1759449599@therecordpub.com
SUMMARY:All-Day Happy Hour
DESCRIPTION:Join us every Tuesday and Thursday for our all-day happy hour\, featuring $5 premium pints\, $7 wine pours and $2 hot dogs to go with your record-digging!
URL:https://therecordpub.com/event/all-day-happy-hour-70/
ATTACH;FMTTYPE=image/png:https://therecordpub.com/wp-content/uploads/2025/02/All-Day-Happy-Hour-SQ-1.png
END:VEVENT
BEGIN:VEVENT
DTSTART;TZID=UTC:20251001T190000
DTEND;TZID=UTC:20251001T210000
DTSTAMP:20260424T081919
CREATED:20250831T191737Z
LAST-MODIFIED:20250831T191737Z
UID:64766-1759345200-1759352400@therecordpub.com
SUMMARY:Seinfeld Trivia Night
DESCRIPTION:We’ve got a special theme night in store as we kick off the trivia menu for October\, as we will be hosting a special Seinfeld edition of our weekly trivia.  \nCrank up your 90s knowledge and put it to good use at The Record Pub on Wednesday\, Oct. 1\, beginning at 7 p.m.
URL:https://therecordpub.com/event/seinfeld-trivia-night/
ATTACH;FMTTYPE=image/png:https://therecordpub.com/wp-content/uploads/2025/08/TRP-TRIVIA-Oct-1-SQ.png
END:VEVENT
BEGIN:VEVENT
DTSTART;VALUE=DATE:20250930
DTEND;VALUE=DATE:20251001
DTSTAMP:20260424T081919
CREATED:20250920T230452Z
LAST-MODIFIED:20250920T230452Z
UID:64794-1759190400-1759276799@therecordpub.com
SUMMARY:All-Day Happy Hour
DESCRIPTION:Join us every Tuesday and Thursday for our all-day happy hour\, featuring $5 premium pints\, $7 wine pours and $2 hot dogs to go with your record-digging!
URL:https://therecordpub.com/event/all-day-happy-hour-69/
ATTACH;FMTTYPE=image/png:https://therecordpub.com/wp-content/uploads/2025/02/All-Day-Happy-Hour-SQ-1.png
END:VEVENT
BEGIN:VEVENT
DTSTART;TZID=UTC:20250926T180000
DTEND;TZID=UTC:20250926T200000
DTSTAMP:20260424T081919
CREATED:20250920T230058Z
LAST-MODIFIED:20250920T230058Z
UID:64791-1758909600-1758916800@therecordpub.com
SUMMARY:Listening Party: Neko Case
DESCRIPTION:TRP will be hosting a special listening party for Neko Case’s latest LP\, Neon Grey Midnight Green. We’ll have special giveaways and drawings in addition to great drink specials\, with the action beginning at 6 p.m.
URL:https://therecordpub.com/event/listening-party-neko-case/
ATTACH;FMTTYPE=image/jpeg:https://therecordpub.com/wp-content/uploads/2025/09/Neko.jpg
END:VEVENT
BEGIN:VEVENT
DTSTART;VALUE=DATE:20250925
DTEND;VALUE=DATE:20250926
DTSTAMP:20260424T081919
CREATED:20250831T185639Z
LAST-MODIFIED:20250831T185639Z
UID:64753-1758758400-1758844799@therecordpub.com
SUMMARY:All-Day Happy Hour
DESCRIPTION:Join us every Tuesday and Thursday for our all-day happy hour\, featuring $5 premium pints\, $7 wine pours and $2 hot dogs to go with your record-digging!
URL:https://therecordpub.com/event/all-day-happy-hour-63/
ATTACH;FMTTYPE=image/png:https://therecordpub.com/wp-content/uploads/2025/02/All-Day-Happy-Hour-SQ-1.png
END:VEVENT
BEGIN:VEVENT
DTSTART;TZID=UTC:20250924T190000
DTEND;TZID=UTC:20250924T210000
DTSTAMP:20260424T081919
CREATED:20250831T185529Z
LAST-MODIFIED:20250831T185529Z
UID:64751-1758740400-1758747600@therecordpub.com
SUMMARY:Community Trivia Night: Music
DESCRIPTION:Join us as we team up with Last Call Trivia for our new Community Trivia Night on Wednesday evenings at The Record Pub. The game starts at 7 p.m.\, and you’ll want to arrive early to reserve a good space to play.   \nOur Community Trivia Nights are free to play\, and each month we’ll be donating a portion of the trivia proceeds to an area non-profit.
URL:https://therecordpub.com/event/community-trivia-night-music-13/
ATTACH;FMTTYPE=image/png:https://therecordpub.com/wp-content/uploads/2025/08/TRP-Trivia-SEPT25-SQ.png
END:VEVENT
BEGIN:VEVENT
DTSTART;VALUE=DATE:20250923
DTEND;VALUE=DATE:20250924
DTSTAMP:20260424T081919
CREATED:20250831T185716Z
LAST-MODIFIED:20250831T185716Z
UID:64755-1758585600-1758671999@therecordpub.com
SUMMARY:All-Day Happy Hour
DESCRIPTION:Join us every Tuesday and Thursday for our all-day happy hour\, featuring $5 premium pints\, $7 wine pours and $2 hot dogs to go with your record-digging!
URL:https://therecordpub.com/event/all-day-happy-hour-64/
ATTACH;FMTTYPE=image/png:https://therecordpub.com/wp-content/uploads/2025/02/All-Day-Happy-Hour-SQ-1.png
END:VEVENT
BEGIN:VEVENT
DTSTART;TZID=UTC:20250920T190000
DTEND;TZID=UTC:20250920T210000
DTSTAMP:20260424T081919
CREATED:20250831T185152Z
LAST-MODIFIED:20250831T185152Z
UID:64744-1758394800-1758402000@therecordpub.com
SUMMARY:Live Music: Derek Montclair
DESCRIPTION:TRP Assistant GM Derek Montclair hops to the other side of the bar to rock TRP on Saturday\, Sept. 20. \nShow starts at 7 p.m.\, no cover.
URL:https://therecordpub.com/event/live-music-derek-montclair/
ATTACH;FMTTYPE=image/jpeg:https://therecordpub.com/wp-content/uploads/2025/08/DEREK-MONTCLAIR-920-SQ.jpg
END:VEVENT
BEGIN:VEVENT
DTSTART;VALUE=DATE:20250918
DTEND;VALUE=DATE:20250919
DTSTAMP:20260424T081919
CREATED:20250831T185751Z
LAST-MODIFIED:20250831T185751Z
UID:64757-1758153600-1758239999@therecordpub.com
SUMMARY:All-Day Happy Hour
DESCRIPTION:Join us every Tuesday and Thursday for our all-day happy hour\, featuring $5 premium pints\, $7 wine pours and $2 hot dogs to go with your record-digging!
URL:https://therecordpub.com/event/all-day-happy-hour-65/
ATTACH;FMTTYPE=image/png:https://therecordpub.com/wp-content/uploads/2025/02/All-Day-Happy-Hour-SQ-1.png
END:VEVENT
BEGIN:VEVENT
DTSTART;TZID=UTC:20250917T190000
DTEND;TZID=UTC:20250917T210000
DTSTAMP:20260424T081919
CREATED:20250831T185324Z
LAST-MODIFIED:20250831T185447Z
UID:64747-1758135600-1758142800@therecordpub.com
SUMMARY:Community Trivia Night: General Knowledge
DESCRIPTION:Join us as we team up with Last Call Trivia for our new Community Trivia Night on Wednesday evenings at The Record Pub. The game starts at 7 p.m.\, and you’ll want to arrive early to reserve a good space to play.   \nOur Community Trivia Nights are free to play\, and each month we’ll be donating a portion of the trivia proceeds to an area non-profit.
URL:https://therecordpub.com/event/community-trivia-night-general-knowledge-61/
ATTACH;FMTTYPE=image/png:https://therecordpub.com/wp-content/uploads/2025/08/TRP-Trivia-SEPT25-SQ.png
END:VEVENT
BEGIN:VEVENT
DTSTART;VALUE=DATE:20250916
DTEND;VALUE=DATE:20250917
DTSTAMP:20260424T081919
CREATED:20250831T185946Z
LAST-MODIFIED:20250831T185946Z
UID:64759-1757980800-1758067199@therecordpub.com
SUMMARY:All-Day Happy Hour
DESCRIPTION:Join us every Tuesday and Thursday for our all-day happy hour\, featuring $5 premium pints\, $7 wine pours and $2 hot dogs to go with your record-digging!
URL:https://therecordpub.com/event/all-day-happy-hour-66/
ATTACH;FMTTYPE=image/png:https://therecordpub.com/wp-content/uploads/2025/02/All-Day-Happy-Hour-SQ-1.png
END:VEVENT
BEGIN:VEVENT
DTSTART;TZID=UTC:20250913T190000
DTEND;TZID=UTC:20250913T210000
DTSTAMP:20260424T081919
CREATED:20250831T184740Z
LAST-MODIFIED:20250831T184740Z
UID:64741-1757790000-1757797200@therecordpub.com
SUMMARY:Live Music: Heads of Slate
DESCRIPTION:Join us from some great local music\, as we welcome back Heads of Slate to TRP. \nShow starts at 7 p.m.\, no cover.
URL:https://therecordpub.com/event/live-music-heads-of-slate-2/
ATTACH;FMTTYPE=image/jpeg:https://therecordpub.com/wp-content/uploads/2025/08/Heads-of-Slate-91325-SQ.jpg
END:VEVENT
BEGIN:VEVENT
DTSTART;VALUE=DATE:20250911
DTEND;VALUE=DATE:20250912
DTSTAMP:20260424T081919
CREATED:20250831T190049Z
LAST-MODIFIED:20250831T190049Z
UID:64761-1757548800-1757635199@therecordpub.com
SUMMARY:All-Day Happy Hour
DESCRIPTION:Join us every Tuesday and Thursday for our all-day happy hour\, featuring $5 premium pints\, $7 wine pours and $2 hot dogs to go with your record-digging!
URL:https://therecordpub.com/event/all-day-happy-hour-67/
ATTACH;FMTTYPE=image/png:https://therecordpub.com/wp-content/uploads/2025/02/All-Day-Happy-Hour-SQ-1.png
END:VEVENT
BEGIN:VEVENT
DTSTART;TZID=UTC:20250910T190000
DTEND;TZID=UTC:20250910T210000
DTSTAMP:20260424T081919
CREATED:20250831T185409Z
LAST-MODIFIED:20250831T185425Z
UID:64749-1757530800-1757538000@therecordpub.com
SUMMARY:Community Trivia Night: Music
DESCRIPTION:Join us as we team up with Last Call Trivia for our new Community Trivia Night on Wednesday evenings at The Record Pub. The game starts at 7 p.m.\, and you’ll want to arrive early to reserve a good space to play.   \nOur Community Trivia Nights are free to play\, and each month we’ll be donating a portion of the trivia proceeds to an area non-profit.
URL:https://therecordpub.com/event/community-trivia-night-music-12/
ATTACH;FMTTYPE=image/png:https://therecordpub.com/wp-content/uploads/2025/08/TRP-Trivia-SEPT25-SQ.png
END:VEVENT
BEGIN:VEVENT
DTSTART;VALUE=DATE:20250909
DTEND;VALUE=DATE:20250910
DTSTAMP:20260424T081919
CREATED:20250831T190120Z
LAST-MODIFIED:20250831T190129Z
UID:64763-1757376000-1757462399@therecordpub.com
SUMMARY:All-Day Happy Hour
DESCRIPTION:Join us every Tuesday and Thursday for our all-day happy hour\, featuring $5 premium pints\, $7 wine pours and $2 hot dogs to go with your record-digging!
URL:https://therecordpub.com/event/all-day-happy-hour-68/
ATTACH;FMTTYPE=image/png:https://therecordpub.com/wp-content/uploads/2025/02/All-Day-Happy-Hour-SQ-1.png
END:VEVENT
END:VCALENDAR