
BEGIN:VCALENDAR
VERSION:2.0
PRODID:-//The Record Pub - ECPv6.15.18//NONSGML v1.0//EN
CALSCALE:GREGORIAN
METHOD:PUBLISH
X-WR-CALNAME:The Record Pub
X-ORIGINAL-URL:https://therecordpub.com
X-WR-CALDESC:Events for The Record Pub
REFRESH-INTERVAL;VALUE=DURATION:PT1H
X-Robots-Tag:noindex
X-PUBLISHED-TTL:PT1H
BEGIN:VTIMEZONE
TZID:UTC
BEGIN:STANDARD
TZOFFSETFROM:+0000
TZOFFSETTO:+0000
TZNAME:UTC
DTSTART:20220101T000000
END:STANDARD
END:VTIMEZONE
BEGIN:VEVENT
DTSTART;VALUE=DATE:20231006
DTEND;VALUE=DATE:20231007
DTSTAMP:20260421T084053
CREATED:20230831T192433Z
LAST-MODIFIED:20230831T192433Z
UID:4494-1696550400-1696636799@therecordpub.com
SUMMARY:New Release Fridays
DESCRIPTION:New releases come out Friday at The Record Pub\, starting at 11 a.m.!
URL:https://therecordpub.com/event/new-release-fridays-15/
END:VEVENT
BEGIN:VEVENT
DTSTART;TZID=UTC:20231006T170000
DTEND;TZID=UTC:20231006T190000
DTSTAMP:20260421T084053
CREATED:20230925T165353Z
LAST-MODIFIED:20230925T175556Z
UID:4536-1696611600-1696618800@therecordpub.com
SUMMARY:Listening Party/Happy Hour: Heatmiser 'Music of Heatmiser'
DESCRIPTION:Join us for a special Heatmiser Happy Hour at TRP\, as we celebrate the release of “Music of Heatmiser” on vinyl for the first time.  \nThe listening party will include $5 pints of select draft beer and raffle prizes from 5-7 p.m.
URL:https://therecordpub.com/event/listening-party-happy-hour-heatmiser-music-of-heatmiser/
ATTACH;FMTTYPE=image/webp:https://therecordpub.com/wp-content/uploads/2023/09/Heatmiser.webp
END:VEVENT
END:VCALENDAR